BEGIN:VCALENDAR
VERSION:2.0
PRODID:-//Pebblestone Cellars - ECPv6.15.20//NONSGML v1.0//EN
CALSCALE:GREGORIAN
METHOD:PUBLISH
X-WR-CALNAME:Pebblestone Cellars
X-ORIGINAL-URL:https://pebblestonecellars.biz
X-WR-CALDESC:Events for Pebblestone Cellars
REFRESH-INTERVAL;VALUE=DURATION:PT1H
X-Robots-Tag:noindex
X-PUBLISHED-TTL:PT1H
BEGIN:VTIMEZONE
TZID:America/Los_Angeles
BEGIN:DAYLIGHT
TZOFFSETFROM:-0800
TZOFFSETTO:-0700
TZNAME:PDT
DTSTART:20210314T100000
END:DAYLIGHT
BEGIN:STANDARD
TZOFFSETFROM:-0700
TZOFFSETTO:-0800
TZNAME:PST
DTSTART:20211107T090000
END:STANDARD
BEGIN:DAYLIGHT
TZOFFSETFROM:-0800
TZOFFSETTO:-0700
TZNAME:PDT
DTSTART:20220313T100000
END:DAYLIGHT
BEGIN:STANDARD
TZOFFSETFROM:-0700
TZOFFSETTO:-0800
TZNAME:PST
DTSTART:20221106T090000
END:STANDARD
BEGIN:DAYLIGHT
TZOFFSETFROM:-0800
TZOFFSETTO:-0700
TZNAME:PDT
DTSTART:20230312T100000
END:DAYLIGHT
BEGIN:STANDARD
TZOFFSETFROM:-0700
TZOFFSETTO:-0800
TZNAME:PST
DTSTART:20231105T090000
END:STANDARD
END:VTIMEZONE
BEGIN:VEVENT
DTSTART;TZID=America/Los_Angeles:20220923T170000
DTEND;TZID=America/Los_Angeles:20220923T190000
DTSTAMP:20260425T174734
CREATED:20220727T153556Z
LAST-MODIFIED:20220915T164422Z
UID:4805-1663952400-1663959600@pebblestonecellars.biz
SUMMARY:Adam Gabriel
DESCRIPTION:Adam Gabriel is a Georgia born\, West Coast seasoned singer-songwriter embodying southern grit and west coast soul. Adam calls his music “Acoustic Soul”\, a blending of Folk\, Soul\, Rock and Rhythm & Blues. \nAlthough a relatively new transplant to Southern Oregon\, Gabriel’s unique blend of genres and stellar live performances have made him one of the region’s hottest growing stars. Come out and enjoy his music.
URL:https://pebblestonecellars.biz/event/adam-gabriel/
LOCATION:Pebblestone Tasting Barn\, 1670 Pioneer Road\, Talent\, OR
CATEGORIES:Live Music
ATTACH;FMTTYPE=image/jpeg:https://pebblestonecellars.biz/wp-content/uploads/2022/07/Adam-Gabriel-2022.jpg
END:VEVENT
BEGIN:VEVENT
DTSTART;TZID=America/Los_Angeles:20220918T150000
DTEND;TZID=America/Los_Angeles:20220918T170000
DTSTAMP:20260425T174734
CREATED:20220727T154147Z
LAST-MODIFIED:20220915T164312Z
UID:4813-1663513200-1663520400@pebblestonecellars.biz
SUMMARY:Nick Garrett-Powell
DESCRIPTION:Nick Garrett-Powell is a an accomplished multi-instrumentalist\, singer-songwriter\, recording engineer and talented performer from Southern Oregon. Nick is a classically trained musician\, with a broad repertoire that includes pop\, blues\, gypsy jazz\, rock\, reggae\, jazz standards\, acoustic fingerstyle\, tapping and slapping and more. \nNick performs as a looping musician\, whereby his songs are recorded in layers live before the audience\, with rhythm\, bass\, leads\, percussion all played on the guitar. As an acclaimed multi-instrumentalist and “stunt guitarist\,” Nick’s solo show includes tenor vocals\, mandolin\, melodica\, jaw harp\, and a heaping serving of acoustic guitar. \nCome out and enjoy this amazing and talented musician!
URL:https://pebblestonecellars.biz/event/nick-garrett-powell/
LOCATION:Pebblestone Tasting Barn\, 1670 Pioneer Road\, Talent\, OR
CATEGORIES:Live Music
ATTACH;FMTTYPE=image/jpeg:https://pebblestonecellars.biz/wp-content/uploads/2022/07/Nick-Garrett-Powell-2022-e1663175962753.jpg
END:VEVENT
BEGIN:VEVENT
DTSTART;TZID=America/Los_Angeles:20220916T170000
DTEND;TZID=America/Los_Angeles:20220916T190000
DTSTAMP:20260425T174734
CREATED:20220914T170135Z
LAST-MODIFIED:20220918T201731Z
UID:4860-1663347600-1663354800@pebblestonecellars.biz
SUMMARY:Sterling Vintage Jazz
DESCRIPTION:Sterling Vintage Jazz covers a wide variety of tunes that have withstood the test of time and have brought joy for generations. Their songbook is diverse and includes classic Jazz and swing hits from the 30’s\, 40’s\, and 50’s in a style inspired by the greats such as Anita O’ Day and Peggy Lee\, with just the right amount of 60s and 70s soulful R&B. The band features Margaret Reno on vocals/percussion\, Mike Town on guitar\, Ted Whiting on bass\, and Drew Rosas on drums.
URL:https://pebblestonecellars.biz/event/sterling-vintage-jazz/
LOCATION:Pebblestone Tasting Barn\, 1670 Pioneer Road\, Talent\, OR
CATEGORIES:Live Music
ATTACH;FMTTYPE=image/jpeg:https://pebblestonecellars.biz/wp-content/uploads/2022/09/SterlingVintageJazz-500px.jpg
END:VEVENT
BEGIN:VEVENT
DTSTART;TZID=America/Los_Angeles:20220911T150000
DTEND;TZID=America/Los_Angeles:20220911T170000
DTSTAMP:20260425T174734
CREATED:20220727T154058Z
LAST-MODIFIED:20220914T201647Z
UID:4811-1662908400-1662915600@pebblestonecellars.biz
SUMMARY:Encore Five
DESCRIPTION:Encore Five returns to Pebblestone. They provide great entertainment with a music genre that is on the softer side (but be sure to wear comfortable dancing shoes). \nThese incredibly talented musicians Jim Doren\, Sheila Winn\, Will Conidi and Mark Longshore have been performing and playing music for decades and are together now to share their talents with you. \nEnjoy music from performers like the Doobie Brothers\, Kenny Wayne Shepherd\, Bonnie Raitt\, Nora Jones\, Van Morrison\, Allman Brothers\, Steely Dan\, and even some original songs from their very own members. \nIt will be a fun afternoon filled with great music!
URL:https://pebblestonecellars.biz/event/encore-5/
LOCATION:Pebblestone Tasting Barn\, 1670 Pioneer Road\, Talent\, OR
CATEGORIES:Live Music
ATTACH;FMTTYPE=image/jpeg:https://pebblestonecellars.biz/wp-content/uploads/2022/07/Encore5-2022.jpg
END:VEVENT
BEGIN:VEVENT
DTSTART;TZID=America/Los_Angeles:20220909T170000
DTEND;TZID=America/Los_Angeles:20220909T190000
DTSTAMP:20260425T174734
CREATED:20220726T202423Z
LAST-MODIFIED:20220914T201454Z
UID:4764-1662742800-1662750000@pebblestonecellars.biz
SUMMARY:Galfano & Ambrose
DESCRIPTION:Both Jon Galfano and Jen Ambrose are very talented performers that have played at Pebblestone over the years. Last year they teamed up to create a great new sound playing great arrangements of popular hits. Don’t miss the opportunity to enjoy this musical duo.
URL:https://pebblestonecellars.biz/event/galfano-ambrose/
LOCATION:Pebblestone Tasting Barn\, 1670 Pioneer Road\, Talent\, OR
CATEGORIES:Live Music
ATTACH;FMTTYPE=image/jpeg:https://pebblestonecellars.biz/wp-content/uploads/2022/07/GalfanoAmbrose-2022-e1663184703694.jpg
END:VEVENT
BEGIN:VEVENT
DTSTART;TZID=America/Los_Angeles:20220828T150000
DTEND;TZID=America/Los_Angeles:20220828T170000
DTSTAMP:20260425T174734
CREATED:20220726T205335Z
LAST-MODIFIED:20220929T171303Z
UID:4776-1661698800-1661706000@pebblestonecellars.biz
SUMMARY:Joshua Paul
DESCRIPTION:Joshua Paul\, Guitarist and singer will perform a blend of Americana\, rock\, country\, and blues for your enjoyment.
URL:https://pebblestonecellars.biz/event/joshua-paul/
LOCATION:Pebblestone Tasting Barn\, 1670 Pioneer Road\, Talent\, OR
CATEGORIES:Live Music
ATTACH;FMTTYPE=image/jpeg:https://pebblestonecellars.biz/wp-content/uploads/2022/07/JoshuaPaul-2022.jpg
END:VEVENT
BEGIN:VEVENT
DTSTART;TZID=America/Los_Angeles:20220826T170000
DTEND;TZID=America/Los_Angeles:20220826T190000
DTSTAMP:20260425T174734
CREATED:20220726T214318Z
LAST-MODIFIED:20220914T202712Z
UID:4794-1661533200-1661540400@pebblestonecellars.biz
SUMMARY:Positively First Street
DESCRIPTION:We welcome this talented Duo to Pebblestone. \nMary Boucher and Allen Crutcher have been entertaining friends and fans in the Rogue Valley as Positively First Street\, with their unique blend of vocal harmony and acoustic instrumentation. \nThey perform a wide range of traditional and contemporary songs from Patsy Cline to Brandi Carlisle\, Willie Nelson to Tom Petty\, mixing in a select few well-crafted originals\, flavored by friendly banter.
URL:https://pebblestonecellars.biz/event/positively-first-street/
LOCATION:Pebblestone Tasting Barn\, 1670 Pioneer Road\, Talent\, OR
CATEGORIES:Live Music
ATTACH;FMTTYPE=image/jpeg:https://pebblestonecellars.biz/wp-content/uploads/2022/07/PositivelyFirstStreet-2022.jpg
END:VEVENT
BEGIN:VEVENT
DTSTART;TZID=America/Los_Angeles:20220821T150000
DTEND;TZID=America/Los_Angeles:20220821T170000
DTSTAMP:20260425T174734
CREATED:20220726T205223Z
LAST-MODIFIED:20220914T202920Z
UID:4774-1661094000-1661101200@pebblestonecellars.biz
SUMMARY:Jeff Kloetzel
DESCRIPTION:Singer-songwriter/cover artist Jeff Kloetzel performs a diverse catalog running the gamut from driving modern tunes to subtle timeless ballads. His original songs are fueled by his rhythmic guitar work and soulful vocals. Influenced by many musical genres including pop\, rock\, folk\, blues and contemporary island\, there should be something for everyone in Jeff’s set list.
URL:https://pebblestonecellars.biz/event/jeff-kloetzel/
LOCATION:Pebblestone Tasting Barn\, 1670 Pioneer Road\, Talent\, OR
CATEGORIES:Live Music
ATTACH;FMTTYPE=image/jpeg:https://pebblestonecellars.biz/wp-content/uploads/2022/07/Jeff-Kloetzel-2022.jpg
END:VEVENT
BEGIN:VEVENT
DTSTART;TZID=America/Los_Angeles:20220819T170000
DTEND;TZID=America/Los_Angeles:20220819T190000
DTSTAMP:20260425T174734
CREATED:20220726T214227Z
LAST-MODIFIED:20220914T202642Z
UID:4792-1660928400-1660935600@pebblestonecellars.biz
SUMMARY:JustaDuo
DESCRIPTION:
URL:https://pebblestonecellars.biz/event/just-a-duo/
LOCATION:Pebblestone Tasting Barn\, 1670 Pioneer Road\, Talent\, OR
CATEGORIES:Live Music
END:VEVENT
BEGIN:VEVENT
DTSTART;TZID=America/Los_Angeles:20220814T150000
DTEND;TZID=America/Los_Angeles:20220814T170000
DTSTAMP:20260425T174734
CREATED:20220726T204409Z
LAST-MODIFIED:20220914T202609Z
UID:4772-1660489200-1660496400@pebblestonecellars.biz
SUMMARY:Delilah
DESCRIPTION:
URL:https://pebblestonecellars.biz/event/delilah/
LOCATION:Pebblestone Tasting Barn\, 1670 Pioneer Road\, Talent\, OR
CATEGORIES:Live Music
END:VEVENT
BEGIN:VEVENT
DTSTART;TZID=America/Los_Angeles:20220812T170000
DTEND;TZID=America/Los_Angeles:20220812T190000
DTSTAMP:20260425T174734
CREATED:20220727T153023Z
LAST-MODIFIED:20220914T202540Z
UID:4802-1660323600-1660330800@pebblestonecellars.biz
SUMMARY:Dave Cahalan
DESCRIPTION:You will love listening to keyboardist David Cahalan perform. He makes magic with his keyboard and sounds like a 3 piece band. He has had a great career that spans over many decades\, many countries and many venues in the US. He has worked with many notable groups during his career such as the ’70s folk rock group\, the “Carpenters.”
URL:https://pebblestonecellars.biz/event/dave-cahalan/
LOCATION:Pebblestone Tasting Barn\, 1670 Pioneer Road\, Talent\, OR
CATEGORIES:Live Music
ATTACH;FMTTYPE=image/jpeg:https://pebblestonecellars.biz/wp-content/uploads/2022/07/DaveCahalan-2022.jpg
END:VEVENT
BEGIN:VEVENT
DTSTART;TZID=America/Los_Angeles:20220807T150000
DTEND;TZID=America/Los_Angeles:20220807T170000
DTSTAMP:20260425T174734
CREATED:20220726T204313Z
LAST-MODIFIED:20220914T202502Z
UID:4770-1659884400-1659891600@pebblestonecellars.biz
SUMMARY:New Vintage Jazz
DESCRIPTION:Featuring Linda Powers
URL:https://pebblestonecellars.biz/event/new-vintage-jazz/
LOCATION:Pebblestone Tasting Barn\, 1670 Pioneer Road\, Talent\, OR
CATEGORIES:Live Music
END:VEVENT
BEGIN:VEVENT
DTSTART;TZID=America/Los_Angeles:20220805T170000
DTEND;TZID=America/Los_Angeles:20220805T190000
DTSTAMP:20260425T174734
CREATED:20220726T203602Z
LAST-MODIFIED:20220914T202433Z
UID:4767-1659718800-1659726000@pebblestonecellars.biz
SUMMARY:Bill Scholer
DESCRIPTION:
URL:https://pebblestonecellars.biz/event/bill-scholar/
LOCATION:Pebblestone Tasting Barn\, 1670 Pioneer Road\, Talent\, OR
CATEGORIES:Live Music
END:VEVENT
BEGIN:VEVENT
DTSTART;TZID=America/Los_Angeles:20220731T150000
DTEND;TZID=America/Los_Angeles:20220731T170000
DTSTAMP:20260425T174734
CREATED:20220726T211857Z
LAST-MODIFIED:20220914T202400Z
UID:4783-1659279600-1659286800@pebblestonecellars.biz
SUMMARY:Ann Kelly
DESCRIPTION:Ann Kelly is a California vocalist & songwriter based in Los Angeles. She has been performing her songs live around the West Coast to critical acclaim: …”dark\, sultry\, emotional vocals …a unique blend of pop\, jazz and blues.” \nAnn is performing at Pebblestone with a stellar musician and an Emmy award winning composer and keyboardist Mark Ross. Don’t miss them!
URL:https://pebblestonecellars.biz/event/ann-kelly/
LOCATION:Pebblestone Tasting Barn\, 1670 Pioneer Road\, Talent\, OR
CATEGORIES:Live Music
ATTACH;FMTTYPE=image/jpeg:https://pebblestonecellars.biz/wp-content/uploads/2022/07/Ann-Kelly-2022.jpg
END:VEVENT
BEGIN:VEVENT
DTSTART;TZID=America/Los_Angeles:20220729T170000
DTEND;TZID=America/Los_Angeles:20220729T190000
DTSTAMP:20260425T174734
CREATED:20220726T211151Z
LAST-MODIFIED:20220914T202337Z
UID:4779-1659114000-1659121200@pebblestonecellars.biz
SUMMARY:Phil King
DESCRIPTION:Born in Ventura County\, in Southern California and now at home in Southern Oregon\, Phil enjoys playing solo at many of the wineries and restaurants\, in and out of the area\, in addition to Special Events and Private Parties. \nKnown for his smooth vocal treatment of sentimental ballads\, Phil performs a variety of musical styles\, including oldies\, rock\, blues\, folk\, western swing\, country and pop ballads. Phil’s vocals complement the lyrics and spirit of every song he sings from a repertoire that offers a variety of styles\, moods and tempos. Phil loves to sing and it’s the sincerity and quality of his vocals that garners positive reactions from listeners wherever he plays.  Enjoy a mellow night with Phil. \nPlease call 541-512-1655 or email pebblestonecellars@yahoo.com for reservations
URL:https://pebblestonecellars.biz/event/phil-king/
LOCATION:Pebblestone Tasting Barn\, 1670 Pioneer Road\, Talent\, OR
CATEGORIES:Live Music
ATTACH;FMTTYPE=image/jpeg:https://pebblestonecellars.biz/wp-content/uploads/2022/07/phil_king-2022.jpg
END:VEVENT
END:VCALENDAR