BEGIN:VCALENDAR
VERSION:2.0
PRODID:-//Pebblestone Cellars - ECPv6.15.20//NONSGML v1.0//EN
CALSCALE:GREGORIAN
METHOD:PUBLISH
X-WR-CALNAME:Pebblestone Cellars
X-ORIGINAL-URL:https://pebblestonecellars.biz
X-WR-CALDESC:Events for Pebblestone Cellars
REFRESH-INTERVAL;VALUE=DURATION:PT1H
X-Robots-Tag:noindex
X-PUBLISHED-TTL:PT1H
BEGIN:VTIMEZONE
TZID:America/Los_Angeles
BEGIN:DAYLIGHT
TZOFFSETFROM:-0800
TZOFFSETTO:-0700
TZNAME:PDT
DTSTART:20250309T100000
END:DAYLIGHT
BEGIN:STANDARD
TZOFFSETFROM:-0700
TZOFFSETTO:-0800
TZNAME:PST
DTSTART:20251102T090000
END:STANDARD
BEGIN:DAYLIGHT
TZOFFSETFROM:-0800
TZOFFSETTO:-0700
TZNAME:PDT
DTSTART:20260308T100000
END:DAYLIGHT
BEGIN:STANDARD
TZOFFSETFROM:-0700
TZOFFSETTO:-0800
TZNAME:PST
DTSTART:20261101T090000
END:STANDARD
BEGIN:DAYLIGHT
TZOFFSETFROM:-0800
TZOFFSETTO:-0700
TZNAME:PDT
DTSTART:20270314T100000
END:DAYLIGHT
BEGIN:STANDARD
TZOFFSETFROM:-0700
TZOFFSETTO:-0800
TZNAME:PST
DTSTART:20271107T090000
END:STANDARD
END:VTIMEZONE
BEGIN:VEVENT
DTSTART;TZID=America/Los_Angeles:20260516T140000
DTEND;TZID=America/Los_Angeles:20260516T160000
DTSTAMP:20260424T072725
CREATED:20260325T035954Z
LAST-MODIFIED:20260325T035954Z
UID:8117-1778940000-1778947200@pebblestonecellars.biz
SUMMARY:Ukelele Jam
DESCRIPTION:Join us for the Jam! The Ukulele Jam is happening again! The Ukulele Jam is gaining in popularity now and is usually attended by 25 to 30 or more ukulele players strumming and singing through a number of popular songs and enjoyed by an growing audience of fans. \nThey are great to watch but you can also sing along while enjoying a glass or bottle of wine. Local ukulele instructor Tish McFadden will again lead the jam. \nIf the weather is cooperative\, the Jam will be held outside on the tasting room deck; spectators are welcome to enjoy the Jam from our lawn area seating. \nSongbooks are available. All acoustic instruments and voices are welcome as well as just those that just want to enjoy the JAM. \nCall Tish at 541-840-8075 for more information. \nSee you on Saturday!\nMay 16th\, 2 pm to 4 pm
URL:https://pebblestonecellars.biz/event/ukelele-jam-05-16-2026/
CATEGORIES:Live Music
ATTACH;FMTTYPE=image/jpeg:https://pebblestonecellars.biz/wp-content/uploads/2023/11/ukulele-jam.jpg
END:VEVENT
BEGIN:VEVENT
DTSTART;TZID=America/Los_Angeles:20260517T150000
DTEND;TZID=America/Los_Angeles:20260517T170000
DTSTAMP:20260424T072725
CREATED:20260325T040320Z
LAST-MODIFIED:20260325T040320Z
UID:8120-1779030000-1779037200@pebblestonecellars.biz
SUMMARY:Holly Gleason
DESCRIPTION:Get ready to uncork an unforgettable afternoon as we welcome the enchanting Holly Gleason to Pebblestone Cellars! With her melodious voice and a treasure trove of diverse compositions\, Holly takes us on a nostalgic journey that’s as refreshing as a crisp glass of our handcrafted wine. Her funky EP “Miracle Mile” and the soulful “Light Show” are just a sip of what to expect\, as she serenades us with romantic ballads that celebrate the beauty of unconditional love—perfectly paired with every pour! With a delightful mix of sweet humor and poignant introspection\, Holly’s performances are like a fine wine—starting with light-hearted banter and transitioning to soul-stirring emotions that will leave you feeling bubbly inside. So\, gather your friends and join us for a night filled with music\, laughter\, and community at Pebblestone. \nLet’s raise a glass to the beautiful melodies of Holly Gleason! \nSee you on Sunday!\nMay 17th\, 3 pm to 5 pm \nReservations Recommended\nCall 541-512-1655
URL:https://pebblestonecellars.biz/event/holly-gleason-05-17-2026/
CATEGORIES:Live Music
ATTACH;FMTTYPE=image/jpeg:https://pebblestonecellars.biz/wp-content/uploads/2023/03/HollyGleason2023.jpg
END:VEVENT
BEGIN:VEVENT
DTSTART;TZID=America/Los_Angeles:20260522T170000
DTEND;TZID=America/Los_Angeles:20260522T190000
DTSTAMP:20260424T072725
CREATED:20260325T040520Z
LAST-MODIFIED:20260325T040520Z
UID:8123-1779469200-1779476400@pebblestonecellars.biz
SUMMARY:Jen Ambrose
DESCRIPTION:Get ready to uncork an unforgettable afternoon at Pebblestone Cellars\, where the atmosphere is as inviting as a warm hug and music by the incredibly talented Jen Ambrose that is sure to strike a chord. Her playlist is a unique blend of Blues\, Jazz\, Americana\, and Rock that will have you tapping your toes and raising your glass. From her original tunes off her latest album\, Plenty Of Nothin’ To Do\, to beloved classics spanning from Bonnie Raitt to Led Zeppelin\, there’s something for every music lover to enjoy. \nPair her mesmerizing melodies with our fine wines\, and you’ve got the perfect recipe for a memorable outing! So gather your friends and family\, and create some beautiful memories together because at Pebblestone\, we believe that great music and fine wine make the best duet! \nSee you on Friday!\nMay 22nd\, 5 pm to 7 pm \n\nReservations Recommended\nCall 541-512-1655
URL:https://pebblestonecellars.biz/event/jen-ambrose-05-22-2026/
CATEGORIES:Live Music
ATTACH;FMTTYPE=image/jpeg:https://pebblestonecellars.biz/wp-content/uploads/2024/02/JenAmbrose2024.jpg
END:VEVENT
BEGIN:VEVENT
DTSTART;TZID=America/Los_Angeles:20260524T150000
DTEND;TZID=America/Los_Angeles:20260524T170000
DTSTAMP:20260424T072725
CREATED:20260325T040715Z
LAST-MODIFIED:20260325T040723Z
UID:8126-1779634800-1779642000@pebblestonecellars.biz
SUMMARY:Cathy Bolton
DESCRIPTION:We are delighted as always to have Cathy back in the tasting room! With over three decades of performing experience\, Cathy Bolton brings audiences a warm\, heartfelt musical style that blends folk\, country\, light pop\, blues\, and even a hint of Irish influence. She intuitively connects with her listeners\, creating performances that soothe the soul and invite you to relax\, sway\, or even dance along. \nThroughout her career\, Cathy has recorded ten albums of both original and cover songs\, with her work featured on two Windham Hill Records compilation albums alongside artists like Yanni\, George Winston\, and Jim Brickman. She’s also opened for Nashville stars Toby Keith and Dan Seals\, adding to her impressive musical journey. \nAt Pebblestone\, Cathy will share a lovely mix of her own songs and timeless favorites from artists such as John Denver\, Dolly Parton\, Joan Baez\, The Beatles\, Joni Mitchell\, Bob Dylan\, Emmylou Harris\, Chris Stapleton\, Miranda Lambert\, Lainey Wilson\, Mary Chapin Carpenter\, and more. \nSee you on Sunday!\nMay 24th\, 3 pm to 5 pm \nReservations Recommended\nCall 541-512-1655
URL:https://pebblestonecellars.biz/event/cathy-bolton-05-24-2026/
CATEGORIES:Live Music
ATTACH;FMTTYPE=image/jpeg:https://pebblestonecellars.biz/wp-content/uploads/2025/10/CathyBolton2025.jpg
END:VEVENT
END:VCALENDAR