BEGIN:VCALENDAR
VERSION:2.0
PRODID:-//Pebblestone Cellars - ECPv6.15.20//NONSGML v1.0//EN
CALSCALE:GREGORIAN
METHOD:PUBLISH
X-ORIGINAL-URL:https://pebblestonecellars.biz
X-WR-CALDESC:Events for Pebblestone Cellars
REFRESH-INTERVAL;VALUE=DURATION:PT1H
X-Robots-Tag:noindex
X-PUBLISHED-TTL:PT1H
BEGIN:VTIMEZONE
TZID:America/Los_Angeles
BEGIN:DAYLIGHT
TZOFFSETFROM:-0800
TZOFFSETTO:-0700
TZNAME:PDT
DTSTART:20250309T100000
END:DAYLIGHT
BEGIN:STANDARD
TZOFFSETFROM:-0700
TZOFFSETTO:-0800
TZNAME:PST
DTSTART:20251102T090000
END:STANDARD
BEGIN:DAYLIGHT
TZOFFSETFROM:-0800
TZOFFSETTO:-0700
TZNAME:PDT
DTSTART:20260308T100000
END:DAYLIGHT
BEGIN:STANDARD
TZOFFSETFROM:-0700
TZOFFSETTO:-0800
TZNAME:PST
DTSTART:20261101T090000
END:STANDARD
BEGIN:DAYLIGHT
TZOFFSETFROM:-0800
TZOFFSETTO:-0700
TZNAME:PDT
DTSTART:20270314T100000
END:DAYLIGHT
BEGIN:STANDARD
TZOFFSETFROM:-0700
TZOFFSETTO:-0800
TZNAME:PST
DTSTART:20271107T090000
END:STANDARD
END:VTIMEZONE
BEGIN:VEVENT
DTSTART;TZID=America/Los_Angeles:20260412T150000
DTEND;TZID=America/Los_Angeles:20260412T170000
DTSTAMP:20260423T141519
CREATED:20260324T023634Z
LAST-MODIFIED:20260324T023634Z
UID:8084-1776006000-1776013200@pebblestonecellars.biz
SUMMARY:Shybo
DESCRIPTION:Settle in for a enjoyable Sunday afternoon at Pebblestone Cellars\, where live music and fine wine come together beautifully. We’re excited to welcome local favorites Shybo and Twisted Vines to the stage\, bringing their smooth\, easy-listening sound to the winery. \nFeaturing the soulful vocals of Shybo Torres and the groovy bass lines of Jeff Avila\, the duo performs a charming mix of originals and beloved classics from artists like Cat Stevens\, The Beatles\, Neil Young\, Gordon Lightfoot\, and more. It’s the perfect soundtrack for sipping wine\, tapping your toes\, and enjoying a laid-back afternoon among friends. 🍷🎶 \nSee you on Sunday!\nApril 12th\, 3 pm to 5 pm \nReservations Recommended\nCall 541-512-1655
URL:https://pebblestonecellars.biz/event/shybo-04-12-2026/
CATEGORIES:Live Music
ATTACH;FMTTYPE=image/jpeg:https://pebblestonecellars.biz/wp-content/uploads/2023/11/shyboTorres1223.jpg
END:VEVENT
END:VCALENDAR