BEGIN:VCALENDAR
VERSION:2.0
PRODID:-//Pebblestone Cellars - ECPv6.15.20//NONSGML v1.0//EN
CALSCALE:GREGORIAN
METHOD:PUBLISH
X-WR-CALNAME:Pebblestone Cellars
X-ORIGINAL-URL:https://pebblestonecellars.biz
X-WR-CALDESC:Events for Pebblestone Cellars
REFRESH-INTERVAL;VALUE=DURATION:PT1H
X-Robots-Tag:noindex
X-PUBLISHED-TTL:PT1H
BEGIN:VTIMEZONE
TZID:America/Los_Angeles
BEGIN:DAYLIGHT
TZOFFSETFROM:-0800
TZOFFSETTO:-0700
TZNAME:PDT
DTSTART:20250309T100000
END:DAYLIGHT
BEGIN:STANDARD
TZOFFSETFROM:-0700
TZOFFSETTO:-0800
TZNAME:PST
DTSTART:20251102T090000
END:STANDARD
BEGIN:DAYLIGHT
TZOFFSETFROM:-0800
TZOFFSETTO:-0700
TZNAME:PDT
DTSTART:20260308T100000
END:DAYLIGHT
BEGIN:STANDARD
TZOFFSETFROM:-0700
TZOFFSETTO:-0800
TZNAME:PST
DTSTART:20261101T090000
END:STANDARD
BEGIN:DAYLIGHT
TZOFFSETFROM:-0800
TZOFFSETTO:-0700
TZNAME:PDT
DTSTART:20270314T100000
END:DAYLIGHT
BEGIN:STANDARD
TZOFFSETFROM:-0700
TZOFFSETTO:-0800
TZNAME:PST
DTSTART:20271107T090000
END:STANDARD
END:VTIMEZONE
BEGIN:VEVENT
DTSTART;TZID=America/Los_Angeles:20260410T170000
DTEND;TZID=America/Los_Angeles:20260410T190000
DTSTAMP:20260423T141229
CREATED:20260324T023143Z
LAST-MODIFIED:20260324T023212Z
UID:8079-1775840400-1775847600@pebblestonecellars.biz
SUMMARY:Waxin' Moon
DESCRIPTION:Join Waxin’ Moon for a fun-filled afternoon of classic folk and rock favorites from the 60s and 70s\, with a splash of blues and timeless standards that are sure to get everyone singing along. Founded by Julie Raefield on powerful lead vocals and Rob Bremer on keys\, guitar\, and vocals\, Waxin’ Moon brings an infectious energy that’ll have you smiling\, toe-tapping\, and maybe even stepping onto the dance floor. \nFor this special performance\, Waxin’ Moon expands from duo to quartet with Jim Doren on conga and Mark Longshore on bass—both from Encore Five—adding extra groove and depth to an already lively set. Enjoy a wide-ranging songbook featuring music by Linda Ronstadt\, Sam Cooke\, The Eagles\, Ray Charles\, Fleetwood Mac\, Bob Seger\, The Shirelles\, The Beatles\, Janis Joplin\, Carole King\, Norah Jones\, Elvis\, and more. \nRob also performs keyboard\, guitar\, and vocals with Medford’s five-piece classic rock band Encore Five\, where Julie also shines as lead vocalist—bringing that same chemistry and talent to every Waxin’ Moon show. 🍷🎶 \nSee you on Friday!\nApril 10th\, 5 pm to 7 pm \nReservations Recommended\nCall 541-512-1655
URL:https://pebblestonecellars.biz/event/waxin-moon-04-10-2026/
CATEGORIES:Live Music
ATTACH;FMTTYPE=image/jpeg:https://pebblestonecellars.biz/wp-content/uploads/2025/10/waxin-moon2025.jpg
END:VEVENT
END:VCALENDAR