BEGIN:VCALENDAR
VERSION:2.0
PRODID:-//Pebblestone Cellars - ECPv6.15.20//NONSGML v1.0//EN
CALSCALE:GREGORIAN
METHOD:PUBLISH
X-ORIGINAL-URL:https://pebblestonecellars.biz
X-WR-CALDESC:Events for Pebblestone Cellars
REFRESH-INTERVAL;VALUE=DURATION:PT1H
X-Robots-Tag:noindex
X-PUBLISHED-TTL:PT1H
BEGIN:VTIMEZONE
TZID:America/Los_Angeles
BEGIN:DAYLIGHT
TZOFFSETFROM:-0800
TZOFFSETTO:-0700
TZNAME:PDT
DTSTART:20250309T100000
END:DAYLIGHT
BEGIN:STANDARD
TZOFFSETFROM:-0700
TZOFFSETTO:-0800
TZNAME:PST
DTSTART:20251102T090000
END:STANDARD
BEGIN:DAYLIGHT
TZOFFSETFROM:-0800
TZOFFSETTO:-0700
TZNAME:PDT
DTSTART:20260308T100000
END:DAYLIGHT
BEGIN:STANDARD
TZOFFSETFROM:-0700
TZOFFSETTO:-0800
TZNAME:PST
DTSTART:20261101T090000
END:STANDARD
BEGIN:DAYLIGHT
TZOFFSETFROM:-0800
TZOFFSETTO:-0700
TZNAME:PDT
DTSTART:20270314T100000
END:DAYLIGHT
BEGIN:STANDARD
TZOFFSETFROM:-0700
TZOFFSETTO:-0800
TZNAME:PST
DTSTART:20271107T090000
END:STANDARD
END:VTIMEZONE
BEGIN:VEVENT
DTSTART;TZID=America/Los_Angeles:20260403T170000
DTEND;TZID=America/Los_Angeles:20260403T190000
DTSTAMP:20260423T141519
CREATED:20260324T022446Z
LAST-MODIFIED:20260324T023407Z
UID:8073-1775235600-1775242800@pebblestonecellars.biz
SUMMARY:Cathy Bolton
DESCRIPTION:We are delighted as always to have Cathy back in the tasting room! With over three decades of performing experience\, Cathy Bolton brings audiences a warm\, heartfelt musical style that blends folk\, country\, light pop\, blues\, and even a hint of Irish influence. She intuitively connects with her listeners\, creating performances that soothe the soul and invite you to relax\, sway\, or even dance along. \nThroughout her career\, Cathy has recorded ten albums of both original and cover songs\, with her work featured on two Windham Hill Records compilation albums alongside artists like Yanni\, George Winston\, and Jim Brickman. She’s also opened for Nashville stars Toby Keith and Dan Seals\, adding to her impressive musical journey. \nAt Pebblestone\, Cathy will share a lovely mix of her own songs and timeless favorites from artists such as John Denver\, Dolly Parton\, Joan Baez\, The Beatles\, Joni Mitchell\, Bob Dylan\, Emmylou Harris\, Chris Stapleton\, Miranda Lambert\, Lainey Wilson\, Mary Chapin Carpenter\, and more. \nSee you on Friday\nApril 3rd\, 5 pm to 7 pm \nReservations Recommended\nCall 541-512-1655
URL:https://pebblestonecellars.biz/event/cathy-bolton-04-03-2026/
CATEGORIES:Live Music
ATTACH;FMTTYPE=image/jpeg:https://pebblestonecellars.biz/wp-content/uploads/2025/10/CathyBolton2025.jpg
END:VEVENT
END:VCALENDAR