BEGIN:VCALENDAR
VERSION:2.0
PRODID:-//Pebblestone Cellars - ECPv6.15.20//NONSGML v1.0//EN
CALSCALE:GREGORIAN
METHOD:PUBLISH
X-ORIGINAL-URL:https://pebblestonecellars.biz
X-WR-CALDESC:Events for Pebblestone Cellars
REFRESH-INTERVAL;VALUE=DURATION:PT1H
X-Robots-Tag:noindex
X-PUBLISHED-TTL:PT1H
BEGIN:VTIMEZONE
TZID:America/Los_Angeles
BEGIN:DAYLIGHT
TZOFFSETFROM:-0800
TZOFFSETTO:-0700
TZNAME:PDT
DTSTART:20250309T100000
END:DAYLIGHT
BEGIN:STANDARD
TZOFFSETFROM:-0700
TZOFFSETTO:-0800
TZNAME:PST
DTSTART:20251102T090000
END:STANDARD
BEGIN:DAYLIGHT
TZOFFSETFROM:-0800
TZOFFSETTO:-0700
TZNAME:PDT
DTSTART:20260308T100000
END:DAYLIGHT
BEGIN:STANDARD
TZOFFSETFROM:-0700
TZOFFSETTO:-0800
TZNAME:PST
DTSTART:20261101T090000
END:STANDARD
BEGIN:DAYLIGHT
TZOFFSETFROM:-0800
TZOFFSETTO:-0700
TZNAME:PDT
DTSTART:20270314T100000
END:DAYLIGHT
BEGIN:STANDARD
TZOFFSETFROM:-0700
TZOFFSETTO:-0800
TZNAME:PST
DTSTART:20271107T090000
END:STANDARD
END:VTIMEZONE
BEGIN:VEVENT
DTSTART;TZID=America/Los_Angeles:20260320T170000
DTEND;TZID=America/Los_Angeles:20260320T190000
DTSTAMP:20260423T162126
CREATED:20260319T004750Z
LAST-MODIFIED:20260319T004847Z
UID:8065-1774026000-1774033200@pebblestonecellars.biz
SUMMARY:Jen Ambrose & Jon Galfano
DESCRIPTION:Join us at Pebblestone Cellars for a memorable Friday evening as Jen Ambrose and Jon Galfano take the stage with their dynamic\, genre-blending sound. Featuring flute\, guitar\, and keyboard\, this talented duo creates rich\, layered melodies that pair beautifully with a glass of our handcrafted wines. \nTheir set includes original songs from Jen’s latest album\, Plenty Of Nothin To Do\, alongside inspired takes on classics by The Beatles\, Elton John\, and Led Zeppelin. From soulful moments to familiar favorites that invite you to sing along\, this performance offers something for every music lover. \nSettle in\, sip\, and enjoy an evening where great music\, great wine\, and great company come together. We can’t wait to share this special evening with you at Pebblestone Cellars. \nSee you on Friday\nMarch 20th\, 5 pm to 7 pm \nReservations Highly Recommended\nCall 541-512-1655
URL:https://pebblestonecellars.biz/event/jen-ambrose-jon-galfano-2/
CATEGORIES:Live Music
ATTACH;FMTTYPE=image/jpeg:https://pebblestonecellars.biz/wp-content/uploads/2025/10/ambrosegalfano2025.jpg
END:VEVENT
END:VCALENDAR