BEGIN:VCALENDAR
VERSION:2.0
PRODID:-//Pebblestone Cellars - ECPv6.15.20//NONSGML v1.0//EN
CALSCALE:GREGORIAN
METHOD:PUBLISH
X-WR-CALNAME:Pebblestone Cellars
X-ORIGINAL-URL:https://pebblestonecellars.biz
X-WR-CALDESC:Events for Pebblestone Cellars
REFRESH-INTERVAL;VALUE=DURATION:PT1H
X-Robots-Tag:noindex
X-PUBLISHED-TTL:PT1H
BEGIN:VTIMEZONE
TZID:America/Los_Angeles
BEGIN:DAYLIGHT
TZOFFSETFROM:-0800
TZOFFSETTO:-0700
TZNAME:PDT
DTSTART:20250309T100000
END:DAYLIGHT
BEGIN:STANDARD
TZOFFSETFROM:-0700
TZOFFSETTO:-0800
TZNAME:PST
DTSTART:20251102T090000
END:STANDARD
BEGIN:DAYLIGHT
TZOFFSETFROM:-0800
TZOFFSETTO:-0700
TZNAME:PDT
DTSTART:20260308T100000
END:DAYLIGHT
BEGIN:STANDARD
TZOFFSETFROM:-0700
TZOFFSETTO:-0800
TZNAME:PST
DTSTART:20261101T090000
END:STANDARD
BEGIN:DAYLIGHT
TZOFFSETFROM:-0800
TZOFFSETTO:-0700
TZNAME:PDT
DTSTART:20270314T100000
END:DAYLIGHT
BEGIN:STANDARD
TZOFFSETFROM:-0700
TZOFFSETTO:-0800
TZNAME:PST
DTSTART:20271107T090000
END:STANDARD
END:VTIMEZONE
BEGIN:VEVENT
DTSTART;TZID=America/Los_Angeles:20260315T150000
DTEND;TZID=America/Los_Angeles:20260315T170000
DTSTAMP:20260423T161949
CREATED:20260303T003734Z
LAST-MODIFIED:20260303T003734Z
UID:8034-1773586800-1773594000@pebblestonecellars.biz
SUMMARY:Jeff Kloetzel
DESCRIPTION:Ease into the new year with an evening of live music from singer-songwriter and cover artist Jeff Kloetzel. A well-loved presence in the region\, Jeff is known for his rhythmic guitar style\, smooth\, soulful vocals\, and an easygoing stage presence that creates an inviting atmosphere from the first song. His sets thoughtfully blend familiar favorites with timeless ballads\, all delivered with sincerity and care. \nDrawing from pop\, rock\, folk\, blues\, and contemporary island influences\, Jeff’s music offers a laid-back yet engaging listening experience that feels both comforting and fresh. Whether you’re quietly enjoying a glass of wine or softly singing along to a song you know by heart\, his heartfelt performances provide the perfect soundtrack for a relaxed and welcoming start to the year. \nSee you on Sunday\,\nMarch 15th\, 3 pm to 5 pm \nReservations Recommended\nCall 541-512-1655
URL:https://pebblestonecellars.biz/event/jeff-kloetzel-11-2/
CATEGORIES:Live Music
ATTACH;FMTTYPE=image/jpeg:https://pebblestonecellars.biz/wp-content/uploads/2022/07/Jeff-Kloetzel-2022.jpg
END:VEVENT
END:VCALENDAR