BEGIN:VCALENDAR
VERSION:2.0
PRODID:-//Pebblestone Cellars - ECPv6.15.20//NONSGML v1.0//EN
CALSCALE:GREGORIAN
METHOD:PUBLISH
X-ORIGINAL-URL:https://pebblestonecellars.biz
X-WR-CALDESC:Events for Pebblestone Cellars
REFRESH-INTERVAL;VALUE=DURATION:PT1H
X-Robots-Tag:noindex
X-PUBLISHED-TTL:PT1H
BEGIN:VTIMEZONE
TZID:America/Los_Angeles
BEGIN:DAYLIGHT
TZOFFSETFROM:-0800
TZOFFSETTO:-0700
TZNAME:PDT
DTSTART:20250309T100000
END:DAYLIGHT
BEGIN:STANDARD
TZOFFSETFROM:-0700
TZOFFSETTO:-0800
TZNAME:PST
DTSTART:20251102T090000
END:STANDARD
BEGIN:DAYLIGHT
TZOFFSETFROM:-0800
TZOFFSETTO:-0700
TZNAME:PDT
DTSTART:20260308T100000
END:DAYLIGHT
BEGIN:STANDARD
TZOFFSETFROM:-0700
TZOFFSETTO:-0800
TZNAME:PST
DTSTART:20261101T090000
END:STANDARD
BEGIN:DAYLIGHT
TZOFFSETFROM:-0800
TZOFFSETTO:-0700
TZNAME:PDT
DTSTART:20270314T100000
END:DAYLIGHT
BEGIN:STANDARD
TZOFFSETFROM:-0700
TZOFFSETTO:-0800
TZNAME:PST
DTSTART:20271107T090000
END:STANDARD
END:VTIMEZONE
BEGIN:VEVENT
DTSTART;TZID=America/Los_Angeles:20260306T170000
DTEND;TZID=America/Los_Angeles:20260306T190000
DTSTAMP:20260423T160943
CREATED:20260303T002947Z
LAST-MODIFIED:20260303T002947Z
UID:8028-1772816400-1772823600@pebblestonecellars.biz
SUMMARY:Sequoia Duo
DESCRIPTION:Sequoia is an Oregon-based bluegrass duo made up of Allen and Deborah Brinkerhoff\, known for their warm sound and engaging blend of original songs and well-loved covers. Together\, they create a rich musical experience: Al brings his skill on the dobro\, banjo\, and viola caipira\, in addition to contributing vocals\, while Deb compliments him with her guitar work and harmonies. Al is especially recognized in the bluegrass community\, having earned notable accolades such as the Oregon State Dobro Championship and a win at the prestigious Rockygrass Dobro Contest. \nThe duo performs regularly at events across the state\, sharing their music at venues like the Eagleview Pickout and the Canyonville Farmers Market\, where their lively sets have helped them build a loyal regional following. Fans can also enjoy recordings of Sequoia’s performances on YouTube\, where the pair can be seen putting their unique spin on songs like “Tennessee Flat Top Box” and “Papa’s on the Housetop\,” showcasing both their technical musicianship and the easy chemistry that defines their sound. \nSee you on Friday\nMarch 6th\, 5 pm to 7 pm \nReservations Recommended\nCall 541-512-1655
URL:https://pebblestonecellars.biz/event/open-8-2/
CATEGORIES:Live Music
ATTACH;FMTTYPE=image/jpeg:https://pebblestonecellars.biz/wp-content/uploads/2025/07/Sequoia-2025.jpg
END:VEVENT
END:VCALENDAR