BEGIN:VCALENDAR
VERSION:2.0
PRODID:-//Pebblestone Cellars - ECPv6.15.20//NONSGML v1.0//EN
CALSCALE:GREGORIAN
METHOD:PUBLISH
X-ORIGINAL-URL:https://pebblestonecellars.biz
X-WR-CALDESC:Events for Pebblestone Cellars
REFRESH-INTERVAL;VALUE=DURATION:PT1H
X-Robots-Tag:noindex
X-PUBLISHED-TTL:PT1H
BEGIN:VTIMEZONE
TZID:America/Los_Angeles
BEGIN:DAYLIGHT
TZOFFSETFROM:-0800
TZOFFSETTO:-0700
TZNAME:PDT
DTSTART:20250309T100000
END:DAYLIGHT
BEGIN:STANDARD
TZOFFSETFROM:-0700
TZOFFSETTO:-0800
TZNAME:PST
DTSTART:20251102T090000
END:STANDARD
BEGIN:DAYLIGHT
TZOFFSETFROM:-0800
TZOFFSETTO:-0700
TZNAME:PDT
DTSTART:20260308T100000
END:DAYLIGHT
BEGIN:STANDARD
TZOFFSETFROM:-0700
TZOFFSETTO:-0800
TZNAME:PST
DTSTART:20261101T090000
END:STANDARD
BEGIN:DAYLIGHT
TZOFFSETFROM:-0800
TZOFFSETTO:-0700
TZNAME:PDT
DTSTART:20270314T100000
END:DAYLIGHT
BEGIN:STANDARD
TZOFFSETFROM:-0700
TZOFFSETTO:-0800
TZNAME:PST
DTSTART:20271107T090000
END:STANDARD
END:VTIMEZONE
BEGIN:VEVENT
DTSTART;TZID=America/Los_Angeles:20260206T170000
DTEND;TZID=America/Los_Angeles:20260206T190000
DTSTAMP:20260423T180040
CREATED:20260206T192401Z
LAST-MODIFIED:20260206T192401Z
UID:8010-1770397200-1770404400@pebblestonecellars.biz
SUMMARY:Shine On Trio
DESCRIPTION:Shine On Trio brings together talented musicians Steve Shine\, John Galloway\, and Cathy Dorris for a mellow\, music-filled afternoon celebrating Grateful Americana. Featuring Steve Shine on guitar\, John Galloway on bass\, and Cathy Dorris on drums\, the trio weaves rich three-part harmonies through beloved songs from the Grateful Dead and Jerry Garcia\, along with classics by the Beatles\, Bob Dylan\, Van Morrison\, and more. \nExpect laid-back vibes\, soulful grooves\, and a great show from start to finish. Come sip\, relax\, and let Shine On take you on a musical journey worth savoring. \nSee you Friday\,\nFebruary 6th\, 5pm to 7pm \nReservations Highly Recommended\nCall 541-512-1655
URL:https://pebblestonecellars.biz/event/shine-on-trio/
LOCATION:Pebblestone Tasting Barn\, 1670 Pioneer Road\, Talent\, OR
CATEGORIES:Live Music
ATTACH;FMTTYPE=image/jpeg:https://pebblestonecellars.biz/wp-content/uploads/2022/09/ShineOn-2022.jpg
END:VEVENT
END:VCALENDAR