BEGIN:VCALENDAR
VERSION:2.0
PRODID:-//Pebblestone Cellars - ECPv6.15.20//NONSGML v1.0//EN
CALSCALE:GREGORIAN
METHOD:PUBLISH
X-WR-CALNAME:Pebblestone Cellars
X-ORIGINAL-URL:https://pebblestonecellars.biz
X-WR-CALDESC:Events for Pebblestone Cellars
REFRESH-INTERVAL;VALUE=DURATION:PT1H
X-Robots-Tag:noindex
X-PUBLISHED-TTL:PT1H
BEGIN:VTIMEZONE
TZID:America/Los_Angeles
BEGIN:DAYLIGHT
TZOFFSETFROM:-0800
TZOFFSETTO:-0700
TZNAME:PDT
DTSTART:20240310T100000
END:DAYLIGHT
BEGIN:STANDARD
TZOFFSETFROM:-0700
TZOFFSETTO:-0800
TZNAME:PST
DTSTART:20241103T090000
END:STANDARD
BEGIN:DAYLIGHT
TZOFFSETFROM:-0800
TZOFFSETTO:-0700
TZNAME:PDT
DTSTART:20250309T100000
END:DAYLIGHT
BEGIN:STANDARD
TZOFFSETFROM:-0700
TZOFFSETTO:-0800
TZNAME:PST
DTSTART:20251102T090000
END:STANDARD
BEGIN:DAYLIGHT
TZOFFSETFROM:-0800
TZOFFSETTO:-0700
TZNAME:PDT
DTSTART:20260308T100000
END:DAYLIGHT
BEGIN:STANDARD
TZOFFSETFROM:-0700
TZOFFSETTO:-0800
TZNAME:PST
DTSTART:20261101T090000
END:STANDARD
END:VTIMEZONE
BEGIN:VEVENT
DTSTART;TZID=America/Los_Angeles:20251226T170000
DTEND;TZID=America/Los_Angeles:20251226T190000
DTSTAMP:20260423T212506
CREATED:20251206T201003Z
LAST-MODIFIED:20251225T221835Z
UID:7919-1766768400-1766775600@pebblestonecellars.biz
SUMMARY:Ambrose & Galfano
DESCRIPTION:Get ready for an unforgettable evening at Pebblestone Cellars as the dynamic duo\, Jen Ambrose and Jon Galfano\, light up the stage with their electrifying performance! \nPicture this: the enchanting sounds of flutes\, the strumming of guitars\, and the rich melodies from the keyboard filling the air\, all while you sip on our handcrafted wines that perfectly complement each note. As they take you on a musical journey\, showcasing original tracks from Jen’s latest album\, *Plenty Of Nothin To Do*\, and paying tribute to rock legends with their renditions of classics from The Beatles\, Elton John\, and Led Zeppelin\, you’ll find yourself tapping your feet and singing along in no time! This is more than just a concert; it’s a magical experience crafted for both casual wine lovers and seasoned connoisseurs alike. \nDon’t wait—secure your spot for this enchanting night of music and wine before it’s too late! Join us at Pebblestone\, where community\, quality\, and unforgettable memories come together! \nSee you on Friday\nDecember 26th\, 5pm to 7pm \nReservations Recommended\nCall 541-512-1655
URL:https://pebblestonecellars.biz/event/ambrose-galfano-5-2/
LOCATION:Pebblestone Tasting Barn\, 1670 Pioneer Road\, Talent\, OR
CATEGORIES:Live Music
ATTACH;FMTTYPE=image/jpeg:https://pebblestonecellars.biz/wp-content/uploads/2025/10/ambrosegalfano2025.jpg
END:VEVENT
END:VCALENDAR