BEGIN:VCALENDAR
VERSION:2.0
PRODID:-//Pebblestone Cellars - ECPv6.15.20//NONSGML v1.0//EN
CALSCALE:GREGORIAN
METHOD:PUBLISH
X-ORIGINAL-URL:https://pebblestonecellars.biz
X-WR-CALDESC:Events for Pebblestone Cellars
REFRESH-INTERVAL;VALUE=DURATION:PT1H
X-Robots-Tag:noindex
X-PUBLISHED-TTL:PT1H
BEGIN:VTIMEZONE
TZID:America/Los_Angeles
BEGIN:DAYLIGHT
TZOFFSETFROM:-0800
TZOFFSETTO:-0700
TZNAME:PDT
DTSTART:20240310T100000
END:DAYLIGHT
BEGIN:STANDARD
TZOFFSETFROM:-0700
TZOFFSETTO:-0800
TZNAME:PST
DTSTART:20241103T090000
END:STANDARD
BEGIN:DAYLIGHT
TZOFFSETFROM:-0800
TZOFFSETTO:-0700
TZNAME:PDT
DTSTART:20250309T100000
END:DAYLIGHT
BEGIN:STANDARD
TZOFFSETFROM:-0700
TZOFFSETTO:-0800
TZNAME:PST
DTSTART:20251102T090000
END:STANDARD
BEGIN:DAYLIGHT
TZOFFSETFROM:-0800
TZOFFSETTO:-0700
TZNAME:PDT
DTSTART:20260308T100000
END:DAYLIGHT
BEGIN:STANDARD
TZOFFSETFROM:-0700
TZOFFSETTO:-0800
TZNAME:PST
DTSTART:20261101T090000
END:STANDARD
END:VTIMEZONE
BEGIN:VEVENT
DTSTART;TZID=America/Los_Angeles:20251221T150000
DTEND;TZID=America/Los_Angeles:20251221T170000
DTSTAMP:20260423T212615
CREATED:20251206T200657Z
LAST-MODIFIED:20251219T182914Z
UID:7917-1766329200-1766336400@pebblestonecellars.biz
SUMMARY:Jeff Kloetzel
DESCRIPTION:Get ready for an unforgettable evening of live music with singer-songwriter and cover artist Jeff Kloetzel. A favorite throughout the region\, Jeff is known for his rhythmic guitar work\, soulful vocals\, and engaging stage presence that instantly draws audiences in. His performances span a wide range of styles\, from upbeat modern favorites to timeless classic ballads\, all delivered with passion and authenticity. \nRooted in influences from pop\, rock\, folk\, blues\, and contemporary island sounds\, Jeff’s music creates a relaxed yet energetic atmosphere that appeals to music lovers of all tastes. Whether you’re singing along to a familiar hit or discovering a new favorite\, his dynamic and heartfelt performances make every show a memorable experience. Don’t miss the opportunity to catch Jeff Kloetzel live and enjoy a night filled with great music\, connection\, and feel-good vibes. \nSee you on Sunday\nDecember 21st\, 3pm to 5pm \nReservations Recommended\nCall 541-512-1655
URL:https://pebblestonecellars.biz/event/jeff-kloetzel-10-2/
LOCATION:Pebblestone Tasting Barn\, 1670 Pioneer Road\, Talent\, OR
CATEGORIES:Live Music
ATTACH;FMTTYPE=image/jpeg:https://pebblestonecellars.biz/wp-content/uploads/2022/07/Jeff-Kloetzel-2022.jpg
END:VEVENT
END:VCALENDAR