BEGIN:VCALENDAR
VERSION:2.0
PRODID:-//Pebblestone Cellars - ECPv6.15.20//NONSGML v1.0//EN
CALSCALE:GREGORIAN
METHOD:PUBLISH
X-ORIGINAL-URL:https://pebblestonecellars.biz
X-WR-CALDESC:Events for Pebblestone Cellars
REFRESH-INTERVAL;VALUE=DURATION:PT1H
X-Robots-Tag:noindex
X-PUBLISHED-TTL:PT1H
BEGIN:VTIMEZONE
TZID:America/Los_Angeles
BEGIN:DAYLIGHT
TZOFFSETFROM:-0800
TZOFFSETTO:-0700
TZNAME:PDT
DTSTART:20240310T100000
END:DAYLIGHT
BEGIN:STANDARD
TZOFFSETFROM:-0700
TZOFFSETTO:-0800
TZNAME:PST
DTSTART:20241103T090000
END:STANDARD
BEGIN:DAYLIGHT
TZOFFSETFROM:-0800
TZOFFSETTO:-0700
TZNAME:PDT
DTSTART:20250309T100000
END:DAYLIGHT
BEGIN:STANDARD
TZOFFSETFROM:-0700
TZOFFSETTO:-0800
TZNAME:PST
DTSTART:20251102T090000
END:STANDARD
BEGIN:DAYLIGHT
TZOFFSETFROM:-0800
TZOFFSETTO:-0700
TZNAME:PDT
DTSTART:20260308T100000
END:DAYLIGHT
BEGIN:STANDARD
TZOFFSETFROM:-0700
TZOFFSETTO:-0800
TZNAME:PST
DTSTART:20261101T090000
END:STANDARD
END:VTIMEZONE
BEGIN:VEVENT
DTSTART;TZID=America/Los_Angeles:20251219T170000
DTEND;TZID=America/Los_Angeles:20251219T190000
DTSTAMP:20260423T230507
CREATED:20251206T195605Z
LAST-MODIFIED:20251219T182815Z
UID:7912-1766163600-1766170800@pebblestonecellars.biz
SUMMARY:Gil René
DESCRIPTION:As a solo acoustic artist\, Gil delivers a thoughtfully balanced set—crowd-pleasing covers everyone knows and loves\, heartfelt originals that highlight his skill as a songwriter\, and the occasional unexpected tune to keep things fresh. His performances go beyond music\, inviting listeners into stories filled with emotion\, connection\, and song. \nIn 2019\, Gil released his debut all-original album\, Las Vegas Rain\, showcasing his distinct voice and songwriting style. Now based in the beautiful Rogue Valley\, he continues to share his eclectic repertoire with audiences across Oregon\, bringing authenticity\, joy\, and a hint of nostalgia to every show. \nFrom beloved classics to inspired originals\, Gil René’s music resonates with audiences of all ages—turning each performance into a memorable celebration of music. \nSee you on Friday\, December 19th\, 5pm to 7pm \nReservations Recommended\nCall 541-512-1655
URL:https://pebblestonecellars.biz/event/gil-rene-4-2/
LOCATION:Pebblestone Tasting Barn\, 1670 Pioneer Road\, Talent\, OR
CATEGORIES:Live Music
ATTACH;FMTTYPE=image/jpeg:https://pebblestonecellars.biz/wp-content/uploads/2024/05/GilRene2024.jpg
END:VEVENT
END:VCALENDAR