BEGIN:VCALENDAR
VERSION:2.0
PRODID:-//Pebblestone Cellars - ECPv6.15.20//NONSGML v1.0//EN
CALSCALE:GREGORIAN
METHOD:PUBLISH
X-WR-CALNAME:Pebblestone Cellars
X-ORIGINAL-URL:https://pebblestonecellars.biz
X-WR-CALDESC:Events for Pebblestone Cellars
REFRESH-INTERVAL;VALUE=DURATION:PT1H
X-Robots-Tag:noindex
X-PUBLISHED-TTL:PT1H
BEGIN:VTIMEZONE
TZID:America/Los_Angeles
BEGIN:DAYLIGHT
TZOFFSETFROM:-0800
TZOFFSETTO:-0700
TZNAME:PDT
DTSTART:20240310T100000
END:DAYLIGHT
BEGIN:STANDARD
TZOFFSETFROM:-0700
TZOFFSETTO:-0800
TZNAME:PST
DTSTART:20241103T090000
END:STANDARD
BEGIN:DAYLIGHT
TZOFFSETFROM:-0800
TZOFFSETTO:-0700
TZNAME:PDT
DTSTART:20250309T100000
END:DAYLIGHT
BEGIN:STANDARD
TZOFFSETFROM:-0700
TZOFFSETTO:-0800
TZNAME:PST
DTSTART:20251102T090000
END:STANDARD
BEGIN:DAYLIGHT
TZOFFSETFROM:-0800
TZOFFSETTO:-0700
TZNAME:PDT
DTSTART:20260308T100000
END:DAYLIGHT
BEGIN:STANDARD
TZOFFSETFROM:-0700
TZOFFSETTO:-0800
TZNAME:PST
DTSTART:20261101T090000
END:STANDARD
END:VTIMEZONE
BEGIN:VEVENT
DTSTART;TZID=America/Los_Angeles:20251212T170000
DTEND;TZID=America/Los_Angeles:20251212T190000
DTSTAMP:20260423T212506
CREATED:20251206T194618Z
LAST-MODIFIED:20251211T173514Z
UID:7908-1765558800-1765566000@pebblestonecellars.biz
SUMMARY:Shine On
DESCRIPTION:Get ready for an unforgettable afternoon of music with Shine On\, a talented trio bringing their own unique spin to Grateful Americana. Featuring Steve Shine on guitar\, John Galloway on bass\, and Cathy Dorris on drums\, Shine On delivers a soulful\, harmony-rich sound that celebrates the legendary music of the Grateful Dead\, Jerry Garcia\, The Beatles\, Bob Dylan\, Van Morrison\, and more. \nWith their blend of intricate musicianship and smooth three-part harmonies\, Shine On takes you on a laid-back\, feel-good musical journey that perfectly pairs with a glass of wine and good company. Whether you’re a long-time Deadhead or simply love classic tunes with heart and soul\, this is a show you won’t want to miss. \nCome experience the magic of Shine On—where timeless music meets unforgettable vibes. \nSee you on Friday\nDecember 12th\, 5pm to 7pm \nReservations Recommended\nCall 541-512-1655
URL:https://pebblestonecellars.biz/event/shine-on-10/
LOCATION:Pebblestone Tasting Barn\, 1670 Pioneer Road\, Talent\, OR
CATEGORIES:Live Music
ATTACH;FMTTYPE=image/jpeg:https://pebblestonecellars.biz/wp-content/uploads/2022/09/ShineOn-2022.jpg
END:VEVENT
END:VCALENDAR