BEGIN:VCALENDAR
VERSION:2.0
PRODID:-//Pebblestone Cellars - ECPv6.15.20//NONSGML v1.0//EN
CALSCALE:GREGORIAN
METHOD:PUBLISH
X-ORIGINAL-URL:https://pebblestonecellars.biz
X-WR-CALDESC:Events for Pebblestone Cellars
REFRESH-INTERVAL;VALUE=DURATION:PT1H
X-Robots-Tag:noindex
X-PUBLISHED-TTL:PT1H
BEGIN:VTIMEZONE
TZID:America/Los_Angeles
BEGIN:DAYLIGHT
TZOFFSETFROM:-0800
TZOFFSETTO:-0700
TZNAME:PDT
DTSTART:20240310T100000
END:DAYLIGHT
BEGIN:STANDARD
TZOFFSETFROM:-0700
TZOFFSETTO:-0800
TZNAME:PST
DTSTART:20241103T090000
END:STANDARD
BEGIN:DAYLIGHT
TZOFFSETFROM:-0800
TZOFFSETTO:-0700
TZNAME:PDT
DTSTART:20250309T100000
END:DAYLIGHT
BEGIN:STANDARD
TZOFFSETFROM:-0700
TZOFFSETTO:-0800
TZNAME:PST
DTSTART:20251102T090000
END:STANDARD
BEGIN:DAYLIGHT
TZOFFSETFROM:-0800
TZOFFSETTO:-0700
TZNAME:PDT
DTSTART:20260308T100000
END:DAYLIGHT
BEGIN:STANDARD
TZOFFSETFROM:-0700
TZOFFSETTO:-0800
TZNAME:PST
DTSTART:20261101T090000
END:STANDARD
END:VTIMEZONE
BEGIN:VEVENT
DTSTART;TZID=America/Los_Angeles:20251107T170000
DTEND;TZID=America/Los_Angeles:20251107T190000
DTSTAMP:20260423T230404
CREATED:20251027T221425Z
LAST-MODIFIED:20251107T182443Z
UID:7838-1762534800-1762542000@pebblestonecellars.biz
SUMMARY:Tension Deficit
DESCRIPTION:Tension Deficit delivers an unforgettable mix of music that spans genres and generations — from soulful R&B ballads to powerful Delta and Chicago-style blues. Their set list blends vintage favorites with modern hits\, creating the perfect soundtrack for an evening of dancing\, laughter\, and good wine. \nLet Genevieve Predmore’s velvet-smooth vocals and Russ Carter’s masterful guitar take you on a musical journey through time. With soaring anthems\, heartfelt blues\, and irresistible rhythm\, Tension Deficit will have you feeling every note — and craving more. \nDon’t miss this timeless performance — come sip\, sway\, and strut your stuff with Tension Deficit! \nSee you on Friday\nNovember 7th\, 5pm to 7pm \nReservations Recommended\nCall 541-512-1655
URL:https://pebblestonecellars.biz/event/tension-deficit-7/
LOCATION:Pebblestone Tasting Barn\, 1670 Pioneer Road\, Talent\, OR
CATEGORIES:Live Music
ATTACH;FMTTYPE=image/jpeg:https://pebblestonecellars.biz/wp-content/uploads/2024/04/tensiondeficit2024.jpg
END:VEVENT
END:VCALENDAR