BEGIN:VCALENDAR
VERSION:2.0
PRODID:-//Pebblestone Cellars - ECPv6.15.20//NONSGML v1.0//EN
CALSCALE:GREGORIAN
METHOD:PUBLISH
X-ORIGINAL-URL:https://pebblestonecellars.biz
X-WR-CALDESC:Events for Pebblestone Cellars
REFRESH-INTERVAL;VALUE=DURATION:PT1H
X-Robots-Tag:noindex
X-PUBLISHED-TTL:PT1H
BEGIN:VTIMEZONE
TZID:America/Los_Angeles
BEGIN:DAYLIGHT
TZOFFSETFROM:-0800
TZOFFSETTO:-0700
TZNAME:PDT
DTSTART:20240310T100000
END:DAYLIGHT
BEGIN:STANDARD
TZOFFSETFROM:-0700
TZOFFSETTO:-0800
TZNAME:PST
DTSTART:20241103T090000
END:STANDARD
BEGIN:DAYLIGHT
TZOFFSETFROM:-0800
TZOFFSETTO:-0700
TZNAME:PDT
DTSTART:20250309T100000
END:DAYLIGHT
BEGIN:STANDARD
TZOFFSETFROM:-0700
TZOFFSETTO:-0800
TZNAME:PST
DTSTART:20251102T090000
END:STANDARD
BEGIN:DAYLIGHT
TZOFFSETFROM:-0800
TZOFFSETTO:-0700
TZNAME:PDT
DTSTART:20260308T100000
END:DAYLIGHT
BEGIN:STANDARD
TZOFFSETFROM:-0700
TZOFFSETTO:-0800
TZNAME:PST
DTSTART:20261101T090000
END:STANDARD
END:VTIMEZONE
BEGIN:VEVENT
DTSTART;TZID=America/Los_Angeles:20251031T170000
DTEND;TZID=America/Los_Angeles:20251031T190000
DTSTAMP:20260423T230404
CREATED:20251030T170934Z
LAST-MODIFIED:20251030T171157Z
UID:7863-1761930000-1761937200@pebblestonecellars.biz
SUMMARY:Cathy Bolton
DESCRIPTION:With over 33 years in music\, Cathy Bolton continues to captivate audiences with performances that touch the heart and move the feet. Her music—both soulful and uplifting—invites listeners to connect\, reflect\, and sing and dance along. \nDuring the first 25 years of her career\, Cathy recorded 10 albums featuring both original songs and inspired covers. Her work has also been featured on two Windham Hill Records compilation albums alongside celebrated artists such as Yanni\, George Winston\, and Jim Brickman. Career highlights include opening in concert for Nashville recording artists Toby Keith and Dan Seals. \nDon’t miss this opportunity to experience Cathy perform an evening of beautifully chosen originals and beloved classics by artists including John Denver\, Dolly Parton\, Joan Baez\, The Beatles\, Joni Mitchell\, Bob Dylan\, Emmylou Harris\, Chris Stapleton\, Miranda Lambert\, Lainey Wilson\, Mary Chapin Carpenter—and many more. \nSee you on  Friday\nOctober 31st\, 5pm to 7pm \nReservations Recommended\nCall 541-512-1655
URL:https://pebblestonecellars.biz/event/cathy-bolton-3/
LOCATION:Pebblestone Tasting Barn\, 1670 Pioneer Road\, Talent\, OR
CATEGORIES:Live Music
ATTACH;FMTTYPE=image/jpeg:https://pebblestonecellars.biz/wp-content/uploads/2025/10/CathyBolton2025.jpg
END:VEVENT
END:VCALENDAR