BEGIN:VCALENDAR
VERSION:2.0
PRODID:-//Pebblestone Cellars - ECPv6.15.20//NONSGML v1.0//EN
CALSCALE:GREGORIAN
METHOD:PUBLISH
X-ORIGINAL-URL:https://pebblestonecellars.biz
X-WR-CALDESC:Events for Pebblestone Cellars
REFRESH-INTERVAL;VALUE=DURATION:PT1H
X-Robots-Tag:noindex
X-PUBLISHED-TTL:PT1H
BEGIN:VTIMEZONE
TZID:America/Los_Angeles
BEGIN:DAYLIGHT
TZOFFSETFROM:-0800
TZOFFSETTO:-0700
TZNAME:PDT
DTSTART:20240310T100000
END:DAYLIGHT
BEGIN:STANDARD
TZOFFSETFROM:-0700
TZOFFSETTO:-0800
TZNAME:PST
DTSTART:20241103T090000
END:STANDARD
BEGIN:DAYLIGHT
TZOFFSETFROM:-0800
TZOFFSETTO:-0700
TZNAME:PDT
DTSTART:20250309T100000
END:DAYLIGHT
BEGIN:STANDARD
TZOFFSETFROM:-0700
TZOFFSETTO:-0800
TZNAME:PST
DTSTART:20251102T090000
END:STANDARD
BEGIN:DAYLIGHT
TZOFFSETFROM:-0800
TZOFFSETTO:-0700
TZNAME:PDT
DTSTART:20260308T100000
END:DAYLIGHT
BEGIN:STANDARD
TZOFFSETFROM:-0700
TZOFFSETTO:-0800
TZNAME:PST
DTSTART:20261101T090000
END:STANDARD
END:VTIMEZONE
BEGIN:VEVENT
DTSTART;TZID=America/Los_Angeles:20251026T150000
DTEND;TZID=America/Los_Angeles:20251026T170000
DTSTAMP:20260423T230404
CREATED:20251002T190206Z
LAST-MODIFIED:20251025T220701Z
UID:7791-1761490800-1761498000@pebblestonecellars.biz
SUMMARY:Mark Hill
DESCRIPTION:Join us for an unforgettable evening as we celebrate the vibrant sounds of Mark Charles Hill\, a beloved fixture of the Rogue Valley music scene for over two decades! With roots tracing back to California and a rich tapestry of Folk\, Rock\, Country\, Gospel\, and Bluegrass influences\, Mark’s performances are a delightful blend of heartfelt storytelling and toe-tapping melodies. Imagine savoring our exquisite Pebblestone Cellars wines while being serenaded by captivating covers of legends like John Denver and James Taylor. \nThis is more than just a concert; it’s a unique experience where wine and music come together in perfect harmony. With limited seating available inside the tasting hall\, don’t miss your chance to enjoy this magical evening\, connecting with both the artistry of winemaking and the soulful tunes of Mark Charles Hill. Let’s raise a glass and celebrate the joy of music and wine together! \nSee you on Sunday\nOctober 26th\, 3pm to 5pm \nReservations Recommended\nCall 541-512-1655
URL:https://pebblestonecellars.biz/event/mark-hill-2/
LOCATION:Pebblestone Tasting Barn\, 1670 Pioneer Road\, Talent\, OR
CATEGORIES:Live Music
ATTACH;FMTTYPE=image/jpeg:https://pebblestonecellars.biz/wp-content/uploads/2023/08/MarkCharlesHill.jpg
END:VEVENT
END:VCALENDAR