BEGIN:VCALENDAR
VERSION:2.0
PRODID:-//Pebblestone Cellars - ECPv6.15.20//NONSGML v1.0//EN
CALSCALE:GREGORIAN
METHOD:PUBLISH
X-ORIGINAL-URL:https://pebblestonecellars.biz
X-WR-CALDESC:Events for Pebblestone Cellars
REFRESH-INTERVAL;VALUE=DURATION:PT1H
X-Robots-Tag:noindex
X-PUBLISHED-TTL:PT1H
BEGIN:VTIMEZONE
TZID:America/Los_Angeles
BEGIN:DAYLIGHT
TZOFFSETFROM:-0800
TZOFFSETTO:-0700
TZNAME:PDT
DTSTART:20240310T100000
END:DAYLIGHT
BEGIN:STANDARD
TZOFFSETFROM:-0700
TZOFFSETTO:-0800
TZNAME:PST
DTSTART:20241103T090000
END:STANDARD
BEGIN:DAYLIGHT
TZOFFSETFROM:-0800
TZOFFSETTO:-0700
TZNAME:PDT
DTSTART:20250309T100000
END:DAYLIGHT
BEGIN:STANDARD
TZOFFSETFROM:-0700
TZOFFSETTO:-0800
TZNAME:PST
DTSTART:20251102T090000
END:STANDARD
BEGIN:DAYLIGHT
TZOFFSETFROM:-0800
TZOFFSETTO:-0700
TZNAME:PDT
DTSTART:20260308T100000
END:DAYLIGHT
BEGIN:STANDARD
TZOFFSETFROM:-0700
TZOFFSETTO:-0800
TZNAME:PST
DTSTART:20261101T090000
END:STANDARD
END:VTIMEZONE
BEGIN:VEVENT
DTSTART;TZID=America/Los_Angeles:20251012T150000
DTEND;TZID=America/Los_Angeles:20251012T170000
DTSTAMP:20260424T010947
CREATED:20251002T184207Z
LAST-MODIFIED:20251010T172732Z
UID:7781-1760281200-1760288400@pebblestonecellars.biz
SUMMARY:Sonido Alegra
DESCRIPTION:As always we are thrilled to have these guys back in the tasting room on Sunday. With Charles Guy’s roots in North Carolina’s bluegrass and soul\, blended beautifully with Linda Powers’ mastery of the violin from her Gypsy swing days\, this duo promises a lively performance that will get your toes tapping and your spirits soaring! \nExperience the rich tapestry of original music infused with Latin\, Spanish\, flamenco\, and Gypsy influences\, along with popular folk rock favorites. The tasting room at Pebblestone Cellars will be alive with energy\, just like our delicious wines—each sip mirroring the vibrant melodies you’ll hear. Don’t miss out on this joyous celebration of music and craftsmanship; grab your friends and join us for a day that promises to be filled with laughter\, rhythm\, and unforgettable memories! \nSee you on Sunday\nOctober 12th\, 3pm to 5pm \nReservations Recommended\nCall 541-512-1655
URL:https://pebblestonecellars.biz/event/sonido-alegra-2/
LOCATION:Pebblestone Tasting Barn\, 1670 Pioneer Road\, Talent\, OR
CATEGORIES:Live Music
ATTACH;FMTTYPE=image/jpeg:https://pebblestonecellars.biz/wp-content/uploads/2022/07/sonido-allegre-2021.jpg
END:VEVENT
END:VCALENDAR