BEGIN:VCALENDAR
VERSION:2.0
PRODID:-//Pebblestone Cellars - ECPv6.15.20//NONSGML v1.0//EN
CALSCALE:GREGORIAN
METHOD:PUBLISH
X-ORIGINAL-URL:https://pebblestonecellars.biz
X-WR-CALDESC:Events for Pebblestone Cellars
REFRESH-INTERVAL;VALUE=DURATION:PT1H
X-Robots-Tag:noindex
X-PUBLISHED-TTL:PT1H
BEGIN:VTIMEZONE
TZID:America/Los_Angeles
BEGIN:DAYLIGHT
TZOFFSETFROM:-0800
TZOFFSETTO:-0700
TZNAME:PDT
DTSTART:20240310T100000
END:DAYLIGHT
BEGIN:STANDARD
TZOFFSETFROM:-0700
TZOFFSETTO:-0800
TZNAME:PST
DTSTART:20241103T090000
END:STANDARD
BEGIN:DAYLIGHT
TZOFFSETFROM:-0800
TZOFFSETTO:-0700
TZNAME:PDT
DTSTART:20250309T100000
END:DAYLIGHT
BEGIN:STANDARD
TZOFFSETFROM:-0700
TZOFFSETTO:-0800
TZNAME:PST
DTSTART:20251102T090000
END:STANDARD
BEGIN:DAYLIGHT
TZOFFSETFROM:-0800
TZOFFSETTO:-0700
TZNAME:PDT
DTSTART:20260308T100000
END:DAYLIGHT
BEGIN:STANDARD
TZOFFSETFROM:-0700
TZOFFSETTO:-0800
TZNAME:PST
DTSTART:20261101T090000
END:STANDARD
END:VTIMEZONE
BEGIN:VEVENT
DTSTART;TZID=America/Los_Angeles:20251003T170000
DTEND;TZID=America/Los_Angeles:20251003T190000
DTSTAMP:20260424T010947
CREATED:20251002T183533Z
LAST-MODIFIED:20251003T171300Z
UID:7775-1759510800-1759518000@pebblestonecellars.biz
SUMMARY:Cathy Bolton
DESCRIPTION:With a career spanning more than three decades\, Cathy Bolton brings audiences a truly heartfelt musical experience. Her easy-listening style blends folk with country\, light pop with a touch of blues\, and even a sprinkling of Irish folk flavor. Always attuned to what moves her listeners\, Cathy delivers performances that touch both the heart and the soul—perfect for relaxing\, listening\, or even dancing along. \nOver the course of her career\, Cathy has recorded ten albums of original and cover songs\, and her music has been featured on two Windham Hill Records compilation albums alongside renowned artists such as Yanni\, George Winston\, and Jim Brickman. She’s also had the honor of opening in concert for Nashville recording artists Toby Keith and Dan Seals\, marking highlights in her extensive journey as a performer. \nAt Pebblestone\, Cathy will share a delightful mix of her own original compositions along with timeless favorites from beloved artists including John Denver\, Dolly Parton\, Joan Baez\, The Beatles\, Joni Mitchell\, Bob Dylan\, Emmylou Harris\, Chris Stapleton\, Miranda Lambert\, Lainey Wilson\, Mary Chapin Carpenter\, and many more. \nSee you on Friday\nOctober 3rd\, 5pm to 7pm \nReservations Recommended\nCall 541-512-1655
URL:https://pebblestonecellars.biz/event/cathy-bolton-2/
LOCATION:Pebblestone Tasting Barn\, 1670 Pioneer Road\, Talent\, OR
CATEGORIES:Live Music
ATTACH;FMTTYPE=image/jpeg:https://pebblestonecellars.biz/wp-content/uploads/2025/05/CathyBolton2025.jpg
END:VEVENT
END:VCALENDAR