BEGIN:VCALENDAR
VERSION:2.0
PRODID:-//Pebblestone Cellars - ECPv6.15.20//NONSGML v1.0//EN
CALSCALE:GREGORIAN
METHOD:PUBLISH
X-ORIGINAL-URL:https://pebblestonecellars.biz
X-WR-CALDESC:Events for Pebblestone Cellars
REFRESH-INTERVAL;VALUE=DURATION:PT1H
X-Robots-Tag:noindex
X-PUBLISHED-TTL:PT1H
BEGIN:VTIMEZONE
TZID:America/Los_Angeles
BEGIN:DAYLIGHT
TZOFFSETFROM:-0800
TZOFFSETTO:-0700
TZNAME:PDT
DTSTART:20240310T100000
END:DAYLIGHT
BEGIN:STANDARD
TZOFFSETFROM:-0700
TZOFFSETTO:-0800
TZNAME:PST
DTSTART:20241103T090000
END:STANDARD
BEGIN:DAYLIGHT
TZOFFSETFROM:-0800
TZOFFSETTO:-0700
TZNAME:PDT
DTSTART:20250309T100000
END:DAYLIGHT
BEGIN:STANDARD
TZOFFSETFROM:-0700
TZOFFSETTO:-0800
TZNAME:PST
DTSTART:20251102T090000
END:STANDARD
BEGIN:DAYLIGHT
TZOFFSETFROM:-0800
TZOFFSETTO:-0700
TZNAME:PDT
DTSTART:20260308T100000
END:DAYLIGHT
BEGIN:STANDARD
TZOFFSETFROM:-0700
TZOFFSETTO:-0800
TZNAME:PST
DTSTART:20261101T090000
END:STANDARD
END:VTIMEZONE
BEGIN:VEVENT
DTSTART;TZID=America/Los_Angeles:20250831T150000
DTEND;TZID=America/Los_Angeles:20250831T170000
DTSTAMP:20260424T024748
CREATED:20250702T225143Z
LAST-MODIFIED:20250829T192553Z
UID:7645-1756652400-1756659600@pebblestonecellars.biz
SUMMARY:Sunday Sounds with Sequoia
DESCRIPTION:The Bluegrass Duo known as Sequoia is an Oregon-based musical act featuring Allen and Deborah Brinkerhoff. They perform a mix of Bluegrass covers and original songs. Al plays dobro\, banjo\, and viola ciapira\, and provides vocals and Deb plays guitar and sings as well. Al Brinkerhoff is a known name in the bluegrass community and has been the Oregon State Dobro Champ\, in addition to winning the Rockygrass Dobro Contest in Lyons\, Colorado. \nSequoia has performed at events across the state\, including the Eagleview Pickout and the Canyonville Farmers Market. Come out and enjoy an afternoon of Bluegrass entertainment inside the cool Pebblestone tasting Room. \nSee you on Sunday!\nAugust 31st\, 3pm to 5pm \nReservations Recommended\nCall 541-512-1655
URL:https://pebblestonecellars.biz/event/open-7/
LOCATION:Pebblestone Tasting Barn\, 1670 Pioneer Road\, Talent\, OR
CATEGORIES:Live Music
ATTACH;FMTTYPE=image/jpeg:https://pebblestonecellars.biz/wp-content/uploads/2025/07/Sequoia-2025.jpg
END:VEVENT
END:VCALENDAR