BEGIN:VCALENDAR
VERSION:2.0
PRODID:-//Pebblestone Cellars - ECPv6.15.20//NONSGML v1.0//EN
CALSCALE:GREGORIAN
METHOD:PUBLISH
X-WR-CALNAME:Pebblestone Cellars
X-ORIGINAL-URL:https://pebblestonecellars.biz
X-WR-CALDESC:Events for Pebblestone Cellars
REFRESH-INTERVAL;VALUE=DURATION:PT1H
X-Robots-Tag:noindex
X-PUBLISHED-TTL:PT1H
BEGIN:VTIMEZONE
TZID:America/Los_Angeles
BEGIN:DAYLIGHT
TZOFFSETFROM:-0800
TZOFFSETTO:-0700
TZNAME:PDT
DTSTART:20240310T100000
END:DAYLIGHT
BEGIN:STANDARD
TZOFFSETFROM:-0700
TZOFFSETTO:-0800
TZNAME:PST
DTSTART:20241103T090000
END:STANDARD
BEGIN:DAYLIGHT
TZOFFSETFROM:-0800
TZOFFSETTO:-0700
TZNAME:PDT
DTSTART:20250309T100000
END:DAYLIGHT
BEGIN:STANDARD
TZOFFSETFROM:-0700
TZOFFSETTO:-0800
TZNAME:PST
DTSTART:20251102T090000
END:STANDARD
BEGIN:DAYLIGHT
TZOFFSETFROM:-0800
TZOFFSETTO:-0700
TZNAME:PDT
DTSTART:20260308T100000
END:DAYLIGHT
BEGIN:STANDARD
TZOFFSETFROM:-0700
TZOFFSETTO:-0800
TZNAME:PST
DTSTART:20261101T090000
END:STANDARD
END:VTIMEZONE
BEGIN:VEVENT
DTSTART;TZID=America/Los_Angeles:20250810T150000
DTEND;TZID=America/Los_Angeles:20250810T170000
DTSTAMP:20260424T042821
CREATED:20250702T224235Z
LAST-MODIFIED:20250806T202909Z
UID:7630-1754838000-1754845200@pebblestonecellars.biz
SUMMARY:Crutcher & Dunsmoor
DESCRIPTION:Sunday Music Magic\nwith\nCrutcher and Dunsmoor! \nJoin us for an unforgettable evening as Allen Crutcher and Gary Dunsmoor take the stage together\, fueled by their shared passion for music and songwriting! Allen\, a talented multi-instrumentalist\, weaves beautiful stories through his artfully crafted lyrics\, capturing the essence of love\, friendship\, and the joy of life in every note. Meanwhile\, Gary\, a musical chameleon\, brings his love for melody and harmony to the forefront\, showcasing his versatility from rock to R&B. Together\, they create a vibrant tapestry of sound that echoes the craftsmanship and authenticity found in every bottle of Pebblestone Cellars’ handcrafted wines. So\, come immerse yourself in a delightful blend of music and exceptional wines—let’s celebrate the artistry that brings us all together! Join us for this joyous experience\, and let your taste buds dance along with the melodies!
URL:https://pebblestonecellars.biz/event/crutcher-dunsmoor-6/
LOCATION:Pebblestone Tasting Barn\, 1670 Pioneer Road\, Talent\, OR
CATEGORIES:Live Music
ATTACH;FMTTYPE=image/jpeg:https://pebblestonecellars.biz/wp-content/uploads/2024/10/dunsmoor-crutcher2024-e1751496131556.jpg
END:VEVENT
END:VCALENDAR