BEGIN:VCALENDAR
VERSION:2.0
PRODID:-//Pebblestone Cellars - ECPv6.15.20//NONSGML v1.0//EN
CALSCALE:GREGORIAN
METHOD:PUBLISH
X-ORIGINAL-URL:https://pebblestonecellars.biz
X-WR-CALDESC:Events for Pebblestone Cellars
REFRESH-INTERVAL;VALUE=DURATION:PT1H
X-Robots-Tag:noindex
X-PUBLISHED-TTL:PT1H
BEGIN:VTIMEZONE
TZID:America/Los_Angeles
BEGIN:DAYLIGHT
TZOFFSETFROM:-0800
TZOFFSETTO:-0700
TZNAME:PDT
DTSTART:20240310T100000
END:DAYLIGHT
BEGIN:STANDARD
TZOFFSETFROM:-0700
TZOFFSETTO:-0800
TZNAME:PST
DTSTART:20241103T090000
END:STANDARD
BEGIN:DAYLIGHT
TZOFFSETFROM:-0800
TZOFFSETTO:-0700
TZNAME:PDT
DTSTART:20250309T100000
END:DAYLIGHT
BEGIN:STANDARD
TZOFFSETFROM:-0700
TZOFFSETTO:-0800
TZNAME:PST
DTSTART:20251102T090000
END:STANDARD
BEGIN:DAYLIGHT
TZOFFSETFROM:-0800
TZOFFSETTO:-0700
TZNAME:PDT
DTSTART:20260308T100000
END:DAYLIGHT
BEGIN:STANDARD
TZOFFSETFROM:-0700
TZOFFSETTO:-0800
TZNAME:PST
DTSTART:20261101T090000
END:STANDARD
END:VTIMEZONE
BEGIN:VEVENT
DTSTART;TZID=America/Los_Angeles:20250808T170000
DTEND;TZID=America/Los_Angeles:20250808T190000
DTSTAMP:20260424T042334
CREATED:20250702T224036Z
LAST-MODIFIED:20250806T203228Z
UID:7628-1754672400-1754679600@pebblestonecellars.biz
SUMMARY:Twelve Bars Deep
DESCRIPTION:Friday Night Magic\nwith\nTwelve Bars Deep \nExperience an unforgettable evening at Pebblestone Cellars as we welcome the electrifying sounds of Twelve Bars Deep! \nThis talented group of musicians is set to take the stage\, delivering an exhilarating mix of Blues\, R&B\, and swing that will have you dancing the night away. With their extensive live performance experience\, Twelve Bars Deep promises to create a lively atmosphere that perfectly complements our commitment to a warm\, community-oriented environment. \nJoin us for a delightful evening where you can sip on our premium\, handcrafted wines while soaking in the vibrant energy of live music. Don’t miss out on this fantastic opportunity to create lasting memories—come down to Pebblestone Cellars and let the music and wine flow! \nSee you on Friday\, August 8th\,\n5pm to 7pm \nReservations Recommended\nCall 541-512-1655
URL:https://pebblestonecellars.biz/event/12-bars-deep-3/
LOCATION:Pebblestone Tasting Barn\, 1670 Pioneer Road\, Talent\, OR
CATEGORIES:Live Music
ATTACH;FMTTYPE=image/jpeg:https://pebblestonecellars.biz/wp-content/uploads/2024/08/12BarsDeep2024.jpg
END:VEVENT
END:VCALENDAR