BEGIN:VCALENDAR
VERSION:2.0
PRODID:-//Pebblestone Cellars - ECPv6.15.20//NONSGML v1.0//EN
CALSCALE:GREGORIAN
METHOD:PUBLISH
X-ORIGINAL-URL:https://pebblestonecellars.biz
X-WR-CALDESC:Events for Pebblestone Cellars
REFRESH-INTERVAL;VALUE=DURATION:PT1H
X-Robots-Tag:noindex
X-PUBLISHED-TTL:PT1H
BEGIN:VTIMEZONE
TZID:America/Los_Angeles
BEGIN:DAYLIGHT
TZOFFSETFROM:-0800
TZOFFSETTO:-0700
TZNAME:PDT
DTSTART:20240310T100000
END:DAYLIGHT
BEGIN:STANDARD
TZOFFSETFROM:-0700
TZOFFSETTO:-0800
TZNAME:PST
DTSTART:20241103T090000
END:STANDARD
BEGIN:DAYLIGHT
TZOFFSETFROM:-0800
TZOFFSETTO:-0700
TZNAME:PDT
DTSTART:20250309T100000
END:DAYLIGHT
BEGIN:STANDARD
TZOFFSETFROM:-0700
TZOFFSETTO:-0800
TZNAME:PST
DTSTART:20251102T090000
END:STANDARD
BEGIN:DAYLIGHT
TZOFFSETFROM:-0800
TZOFFSETTO:-0700
TZNAME:PDT
DTSTART:20260308T100000
END:DAYLIGHT
BEGIN:STANDARD
TZOFFSETFROM:-0700
TZOFFSETTO:-0800
TZNAME:PST
DTSTART:20261101T090000
END:STANDARD
END:VTIMEZONE
BEGIN:VEVENT
DTSTART;TZID=America/Los_Angeles:20250803T150000
DTEND;TZID=America/Los_Angeles:20250803T170000
DTSTAMP:20260424T043109
CREATED:20250702T223922Z
LAST-MODIFIED:20250801T175603Z
UID:7626-1754233200-1754240400@pebblestonecellars.biz
SUMMARY:Waxin Moon Duo
DESCRIPTION:Hold onto your glasses\, folks! Sunday afternoon Pebblestone Cellars is turning up the volume as the dynamic duo\, Rob Bremer and Julie Raefield\, take the stage to bring you a sensational mix of 60s and 70s folk and rock classics! With Rob tickling the ivories and strumming the guitar\, and Julie’s enchanting vocals—she found her groove belting out Jefferson Airplane’s “White Rabbit”—you’re in for a treat that’ll have you humming along in no time! Their rich blend of blues and timeless standards pairs perfectly with our handcrafted wines\, creating a cozy vibe that’s all about community and connection. So\, grab your friends\, let loose\, and join us for a night of heartwarming melodies and soul-stirring stories—because at Pebblestone\, every sip and every note is a celebration! Let’s raise a glass and make some unforgettable memories! Cheers! \nSee you Sunday\nAugust 3rd\, 3pm to 5pm \nReservations Recommended\nCall 541-512-1655
URL:https://pebblestonecellars.biz/event/waxin-moon-duo/
LOCATION:Pebblestone Tasting Barn\, 1670 Pioneer Road\, Talent\, OR
CATEGORIES:Live Music
ATTACH;FMTTYPE=image/jpeg:https://pebblestonecellars.biz/wp-content/uploads/2025/02/waxin-moon-2025.jpg
END:VEVENT
END:VCALENDAR