BEGIN:VCALENDAR
VERSION:2.0
PRODID:-//Pebblestone Cellars - ECPv6.15.20//NONSGML v1.0//EN
CALSCALE:GREGORIAN
METHOD:PUBLISH
X-ORIGINAL-URL:https://pebblestonecellars.biz
X-WR-CALDESC:Events for Pebblestone Cellars
REFRESH-INTERVAL;VALUE=DURATION:PT1H
X-Robots-Tag:noindex
X-PUBLISHED-TTL:PT1H
BEGIN:VTIMEZONE
TZID:America/Los_Angeles
BEGIN:DAYLIGHT
TZOFFSETFROM:-0800
TZOFFSETTO:-0700
TZNAME:PDT
DTSTART:20240310T100000
END:DAYLIGHT
BEGIN:STANDARD
TZOFFSETFROM:-0700
TZOFFSETTO:-0800
TZNAME:PST
DTSTART:20241103T090000
END:STANDARD
BEGIN:DAYLIGHT
TZOFFSETFROM:-0800
TZOFFSETTO:-0700
TZNAME:PDT
DTSTART:20250309T100000
END:DAYLIGHT
BEGIN:STANDARD
TZOFFSETFROM:-0700
TZOFFSETTO:-0800
TZNAME:PST
DTSTART:20251102T090000
END:STANDARD
BEGIN:DAYLIGHT
TZOFFSETFROM:-0800
TZOFFSETTO:-0700
TZNAME:PDT
DTSTART:20260308T100000
END:DAYLIGHT
BEGIN:STANDARD
TZOFFSETFROM:-0700
TZOFFSETTO:-0800
TZNAME:PST
DTSTART:20261101T090000
END:STANDARD
END:VTIMEZONE
BEGIN:VEVENT
DTSTART;TZID=America/Los_Angeles:20250727T150000
DTEND;TZID=America/Los_Angeles:20250727T170000
DTSTAMP:20260424T043109
CREATED:20250702T223423Z
LAST-MODIFIED:20250724T184147Z
UID:7622-1753628400-1753635600@pebblestonecellars.biz
SUMMARY:Gil René
DESCRIPTION:Join us for an unforgettable evening at Pebblestone Cellars\, where the musical magic of Gil René will blend seamlessly with our exquisite wines! With nearly 50 years of captivating performances under his belt\, Gil knows how to strike a chord with audiences\, whether he’s strumming classic sing-alongs or sharing heartfelt originals from his celebrated album\, “Las Vegas Rain.” Just like our meticulously crafted wines\, his music is rich in flavor and emotion\, creating a delightful pairing that will leave you feeling uplifted and connected. So grab your friends\, raise your glasses\, and let the rhythms of Gil René take you on a harmonious journey through the night – because at Pebblestone Cellars\, we believe every sip and every note deserves to be savored! \nSee you on Sunday!\nJuly 27th\, 3pm to 5pm \nReservations Recommended\nCall 541-512-1655
URL:https://pebblestonecellars.biz/event/gil-rene-3/
LOCATION:Pebblestone Tasting Barn\, 1670 Pioneer Road\, Talent\, OR
CATEGORIES:Live Music
ATTACH;FMTTYPE=image/jpeg:https://pebblestonecellars.biz/wp-content/uploads/2024/05/GilRene2024.jpg
END:VEVENT
END:VCALENDAR