BEGIN:VCALENDAR
VERSION:2.0
PRODID:-//Pebblestone Cellars - ECPv6.15.20//NONSGML v1.0//EN
CALSCALE:GREGORIAN
METHOD:PUBLISH
X-ORIGINAL-URL:https://pebblestonecellars.biz
X-WR-CALDESC:Events for Pebblestone Cellars
REFRESH-INTERVAL;VALUE=DURATION:PT1H
X-Robots-Tag:noindex
X-PUBLISHED-TTL:PT1H
BEGIN:VTIMEZONE
TZID:America/Los_Angeles
BEGIN:DAYLIGHT
TZOFFSETFROM:-0800
TZOFFSETTO:-0700
TZNAME:PDT
DTSTART:20240310T100000
END:DAYLIGHT
BEGIN:STANDARD
TZOFFSETFROM:-0700
TZOFFSETTO:-0800
TZNAME:PST
DTSTART:20241103T090000
END:STANDARD
BEGIN:DAYLIGHT
TZOFFSETFROM:-0800
TZOFFSETTO:-0700
TZNAME:PDT
DTSTART:20250309T100000
END:DAYLIGHT
BEGIN:STANDARD
TZOFFSETFROM:-0700
TZOFFSETTO:-0800
TZNAME:PST
DTSTART:20251102T090000
END:STANDARD
BEGIN:DAYLIGHT
TZOFFSETFROM:-0800
TZOFFSETTO:-0700
TZNAME:PDT
DTSTART:20260308T100000
END:DAYLIGHT
BEGIN:STANDARD
TZOFFSETFROM:-0700
TZOFFSETTO:-0800
TZNAME:PST
DTSTART:20261101T090000
END:STANDARD
END:VTIMEZONE
BEGIN:VEVENT
DTSTART;TZID=America/Los_Angeles:20250713T150000
DTEND;TZID=America/Los_Angeles:20250713T170000
DTSTAMP:20260424T055435
CREATED:20250702T222448Z
LAST-MODIFIED:20250711T181411Z
UID:7611-1752418800-1752426000@pebblestonecellars.biz
SUMMARY:Don Doshier
DESCRIPTION:Get ready for an unforgettable Sunday at Pebblestone Cellars\, where the enchanting sounds of Dan Doshier will fill the air\, creating the perfect backdrop for a delightful afternoon of fine wines and soulful melodies. As a seasoned singer-songwriter with over 3\,000 performances under his belt\, Dan’s music transcends genres\, blending classic country\, folk\, and easy listening into a tapestry of sound that resonates with the heart. Picture yourself nestled among the beautiful vines\, sipping on our meticulously crafted wines\, as Dan’s heartfelt tunes invite you to connect with the warmth of our winery’s inviting atmosphere. At Pebblestone Cellars\, we are committed to providing enriching experiences that celebrate quality and authenticity\, and this event is no exception! Bring your friends and fellow wine lovers to share in the joy of live music and exceptional wines—it’s an afternoon you won’t want to miss! \nSee you on Sunday!\nJuly 13th\, 3pm to 5pm \nReservations Recommended\nCall 541-512-1655
URL:https://pebblestonecellars.biz/event/dondoshier/
LOCATION:Pebblestone Tasting Barn\, 1670 Pioneer Road\, Talent\, OR
CATEGORIES:Live Music
ATTACH;FMTTYPE=image/jpeg:https://pebblestonecellars.biz/wp-content/uploads/2025/07/DonDoshier2025.jpg
END:VEVENT
END:VCALENDAR