BEGIN:VCALENDAR
VERSION:2.0
PRODID:-//Pebblestone Cellars - ECPv6.15.20//NONSGML v1.0//EN
CALSCALE:GREGORIAN
METHOD:PUBLISH
X-WR-CALNAME:Pebblestone Cellars
X-ORIGINAL-URL:https://pebblestonecellars.biz
X-WR-CALDESC:Events for Pebblestone Cellars
REFRESH-INTERVAL;VALUE=DURATION:PT1H
X-Robots-Tag:noindex
X-PUBLISHED-TTL:PT1H
BEGIN:VTIMEZONE
TZID:America/Los_Angeles
BEGIN:DAYLIGHT
TZOFFSETFROM:-0800
TZOFFSETTO:-0700
TZNAME:PDT
DTSTART:20240310T100000
END:DAYLIGHT
BEGIN:STANDARD
TZOFFSETFROM:-0700
TZOFFSETTO:-0800
TZNAME:PST
DTSTART:20241103T090000
END:STANDARD
BEGIN:DAYLIGHT
TZOFFSETFROM:-0800
TZOFFSETTO:-0700
TZNAME:PDT
DTSTART:20250309T100000
END:DAYLIGHT
BEGIN:STANDARD
TZOFFSETFROM:-0700
TZOFFSETTO:-0800
TZNAME:PST
DTSTART:20251102T090000
END:STANDARD
BEGIN:DAYLIGHT
TZOFFSETFROM:-0800
TZOFFSETTO:-0700
TZNAME:PDT
DTSTART:20260308T100000
END:DAYLIGHT
BEGIN:STANDARD
TZOFFSETFROM:-0700
TZOFFSETTO:-0800
TZNAME:PST
DTSTART:20261101T090000
END:STANDARD
END:VTIMEZONE
BEGIN:VEVENT
DTSTART;TZID=America/Los_Angeles:20250711T170000
DTEND;TZID=America/Los_Angeles:20250711T190000
DTSTAMP:20260424T055338
CREATED:20250702T222228Z
LAST-MODIFIED:20250711T181519Z
UID:7609-1752253200-1752260400@pebblestonecellars.biz
SUMMARY:Adam Gabriel
DESCRIPTION:Get ready to uncork an unforgettable evening as Adam Gabriel graces the stage with his soulful blend of Folk-Rock and Southern Blues! This profoundly gifted singer-songwriter doesn’t just perform; he pours his heart into every note\, serving up a rich and honest experience that resonates deeply with every listener. Just as Pebblestone Cellars crafts exquisite wines that tantalize the palate\, Adam’s lyrics and stories will sweep you off your feet\, leaving you craving more. His performances are like a fine wine—complex\, captivating\, and best enjoyed live! Join us for a night where melodies mingle with memories and let Adam’s enchanting artistry elevate your senses\, creating the perfect pairing with our handcrafted wines. Don’t miss this chance to sip\, savor\, and sing along! \nSee you on Friday!\nJuly 11th\, 5pm to 7pm \nReservations Recommended\nCall 541-512-1655
URL:https://pebblestonecellars.biz/event/adam-gabriel-3/
LOCATION:Pebblestone Tasting Barn\, 1670 Pioneer Road\, Talent\, OR
CATEGORIES:Live Music
ATTACH;FMTTYPE=image/jpeg:https://pebblestonecellars.biz/wp-content/uploads/2025/05/Adam-Gabriel-2025-forweb.jpg
END:VEVENT
END:VCALENDAR