BEGIN:VCALENDAR
VERSION:2.0
PRODID:-//Pebblestone Cellars - ECPv6.15.20//NONSGML v1.0//EN
CALSCALE:GREGORIAN
METHOD:PUBLISH
X-ORIGINAL-URL:https://pebblestonecellars.biz
X-WR-CALDESC:Events for Pebblestone Cellars
REFRESH-INTERVAL;VALUE=DURATION:PT1H
X-Robots-Tag:noindex
X-PUBLISHED-TTL:PT1H
BEGIN:VTIMEZONE
TZID:America/Los_Angeles
BEGIN:DAYLIGHT
TZOFFSETFROM:-0800
TZOFFSETTO:-0700
TZNAME:PDT
DTSTART:20240310T100000
END:DAYLIGHT
BEGIN:STANDARD
TZOFFSETFROM:-0700
TZOFFSETTO:-0800
TZNAME:PST
DTSTART:20241103T090000
END:STANDARD
BEGIN:DAYLIGHT
TZOFFSETFROM:-0800
TZOFFSETTO:-0700
TZNAME:PDT
DTSTART:20250309T100000
END:DAYLIGHT
BEGIN:STANDARD
TZOFFSETFROM:-0700
TZOFFSETTO:-0800
TZNAME:PST
DTSTART:20251102T090000
END:STANDARD
BEGIN:DAYLIGHT
TZOFFSETFROM:-0800
TZOFFSETTO:-0700
TZNAME:PDT
DTSTART:20260308T100000
END:DAYLIGHT
BEGIN:STANDARD
TZOFFSETFROM:-0700
TZOFFSETTO:-0800
TZNAME:PST
DTSTART:20261101T090000
END:STANDARD
END:VTIMEZONE
BEGIN:VEVENT
DTSTART;TZID=America/Los_Angeles:20250629T150000
DTEND;TZID=America/Los_Angeles:20250629T170000
DTSTAMP:20260424T055409
CREATED:20250529T173754Z
LAST-MODIFIED:20250625T232408Z
UID:7557-1751209200-1751216400@pebblestonecellars.biz
SUMMARY:Shybo & Twisted Vines
DESCRIPTION:Get ready for an unforgettable Sunday afternoon at Pebblestone Cellars\, where the magic of live music meets the artistry of fine wine! Join us as the local sensation\, Shybo and Twisted Vines\, take the stage to serenade you with their captivating blend of easy listening tunes. Picture this: the soulful vocals of Shybo Torres\, the groovy bass lines from Jeff Avila\, the rhythmic beats of Orion Torres on drums\, and the smooth saxophone melodies from Rico Salas. They’ll be playing a delightful mix of originals and classics from legends like Santana\, Pink Floyd\, and CCR that will have you tapping your feet and humming along! \nSee you on Sunday!\nJune 29th\, 3pm to 5pm \nReservations Recommended\nCall 541-512-1655
URL:https://pebblestonecellars.biz/event/shybo-twisted-vines-2/
LOCATION:Pebblestone Tasting Barn\, 1670 Pioneer Road\, Talent\, OR
CATEGORIES:Live Music
ATTACH;FMTTYPE=image/jpeg:https://pebblestonecellars.biz/wp-content/uploads/2024/08/Shybo-twistedvines.jpg
END:VEVENT
END:VCALENDAR