BEGIN:VCALENDAR
VERSION:2.0
PRODID:-//Pebblestone Cellars - ECPv6.15.20//NONSGML v1.0//EN
CALSCALE:GREGORIAN
METHOD:PUBLISH
X-ORIGINAL-URL:https://pebblestonecellars.biz
X-WR-CALDESC:Events for Pebblestone Cellars
REFRESH-INTERVAL;VALUE=DURATION:PT1H
X-Robots-Tag:noindex
X-PUBLISHED-TTL:PT1H
BEGIN:VTIMEZONE
TZID:America/Los_Angeles
BEGIN:DAYLIGHT
TZOFFSETFROM:-0800
TZOFFSETTO:-0700
TZNAME:PDT
DTSTART:20240310T100000
END:DAYLIGHT
BEGIN:STANDARD
TZOFFSETFROM:-0700
TZOFFSETTO:-0800
TZNAME:PST
DTSTART:20241103T090000
END:STANDARD
BEGIN:DAYLIGHT
TZOFFSETFROM:-0800
TZOFFSETTO:-0700
TZNAME:PDT
DTSTART:20250309T100000
END:DAYLIGHT
BEGIN:STANDARD
TZOFFSETFROM:-0700
TZOFFSETTO:-0800
TZNAME:PST
DTSTART:20251102T090000
END:STANDARD
BEGIN:DAYLIGHT
TZOFFSETFROM:-0800
TZOFFSETTO:-0700
TZNAME:PDT
DTSTART:20260308T100000
END:DAYLIGHT
BEGIN:STANDARD
TZOFFSETFROM:-0700
TZOFFSETTO:-0800
TZNAME:PST
DTSTART:20261101T090000
END:STANDARD
END:VTIMEZONE
BEGIN:VEVENT
DTSTART;TZID=America/Los_Angeles:20250613T170000
DTEND;TZID=America/Los_Angeles:20250613T190000
DTSTAMP:20260424T074218
CREATED:20250529T172236Z
LAST-MODIFIED:20250612T175306Z
UID:7544-1749834000-1749841200@pebblestonecellars.biz
SUMMARY:Friday Fun with Carla Bauer
DESCRIPTION:We are stoked as always to have Carla Bauer back with us! Get ready for an evening of great tunes and good vibes! Carla Bauer brings a mix of acoustic rock from the ‘60s onward\, blended with country rock\, blues\, hard rock\, and heartfelt originals. Expect familiar favorites\, hidden gems you haven’t heard in a while\, and maybe even a song that gets you up and dancing! \nJoin us for a night of music\, wine\, and fun — you won’t want to miss it! \nSee you on Friday!\nJune 13th\n5pm-7pm \nReservations Recommended\nCall 541-512-1655
URL:https://pebblestonecellars.biz/event/carla-bauer-2/
LOCATION:Pebblestone Tasting Barn\, 1670 Pioneer Road\, Talent\, OR
CATEGORIES:Live Music
ATTACH;FMTTYPE=image/jpeg:https://pebblestonecellars.biz/wp-content/uploads/2024/08/carlaBauer2024-e1725573448787.jpg
END:VEVENT
END:VCALENDAR