BEGIN:VCALENDAR
VERSION:2.0
PRODID:-//Pebblestone Cellars - ECPv6.15.20//NONSGML v1.0//EN
CALSCALE:GREGORIAN
METHOD:PUBLISH
X-ORIGINAL-URL:https://pebblestonecellars.biz
X-WR-CALDESC:Events for Pebblestone Cellars
REFRESH-INTERVAL;VALUE=DURATION:PT1H
X-Robots-Tag:noindex
X-PUBLISHED-TTL:PT1H
BEGIN:VTIMEZONE
TZID:America/Los_Angeles
BEGIN:DAYLIGHT
TZOFFSETFROM:-0800
TZOFFSETTO:-0700
TZNAME:PDT
DTSTART:20240310T100000
END:DAYLIGHT
BEGIN:STANDARD
TZOFFSETFROM:-0700
TZOFFSETTO:-0800
TZNAME:PST
DTSTART:20241103T090000
END:STANDARD
BEGIN:DAYLIGHT
TZOFFSETFROM:-0800
TZOFFSETTO:-0700
TZNAME:PDT
DTSTART:20250309T100000
END:DAYLIGHT
BEGIN:STANDARD
TZOFFSETFROM:-0700
TZOFFSETTO:-0800
TZNAME:PST
DTSTART:20251102T090000
END:STANDARD
BEGIN:DAYLIGHT
TZOFFSETFROM:-0800
TZOFFSETTO:-0700
TZNAME:PDT
DTSTART:20260308T100000
END:DAYLIGHT
BEGIN:STANDARD
TZOFFSETFROM:-0700
TZOFFSETTO:-0800
TZNAME:PST
DTSTART:20261101T090000
END:STANDARD
END:VTIMEZONE
BEGIN:VEVENT
DTSTART;TZID=America/Los_Angeles:20250608T150000
DTEND;TZID=America/Los_Angeles:20250608T170000
DTSTAMP:20260424T073505
CREATED:20250529T172028Z
LAST-MODIFIED:20250605T230930Z
UID:7542-1749394800-1749402000@pebblestonecellars.biz
SUMMARY:Skye Lee Duo
DESCRIPTION:Join us at Pebblestone Cellars for an unforgettable afternoon with the Sky Lee Duo! \nWith a Bachelor’s in Vocal Performance and a Master’s of Music under her belt\, Michaela has wowed audiences alongside legends like Kristin Chenoweth and graced the operatic stage at The University of Memphis. Meanwhile\, Albert\, a musical maestro since age six\, has strummed his way through life\, earning the title of Composer of the Year while creating melodies that will make your heart sing. Together\, they’ll harmonize beautifully with our exquisite wines\, turning your tasting experience into a symphony of flavor and sound. \nSee you on Sunday \nJune 8th\, 3pm to 5pm \nPlease call 541-512-1655 for reservations
URL:https://pebblestonecellars.biz/event/skye-lee-duo-2/
LOCATION:Pebblestone Tasting Barn\, 1670 Pioneer Road\, Talent\, OR
CATEGORIES:Live Music
ATTACH;FMTTYPE=image/jpeg:https://pebblestonecellars.biz/wp-content/uploads/2023/05/skyeandlee2023.jpg
END:VEVENT
END:VCALENDAR