BEGIN:VCALENDAR
VERSION:2.0
PRODID:-//Pebblestone Cellars - ECPv6.15.20//NONSGML v1.0//EN
CALSCALE:GREGORIAN
METHOD:PUBLISH
X-WR-CALNAME:Pebblestone Cellars
X-ORIGINAL-URL:https://pebblestonecellars.biz
X-WR-CALDESC:Events for Pebblestone Cellars
REFRESH-INTERVAL;VALUE=DURATION:PT1H
X-Robots-Tag:noindex
X-PUBLISHED-TTL:PT1H
BEGIN:VTIMEZONE
TZID:America/Los_Angeles
BEGIN:DAYLIGHT
TZOFFSETFROM:-0800
TZOFFSETTO:-0700
TZNAME:PDT
DTSTART:20240310T100000
END:DAYLIGHT
BEGIN:STANDARD
TZOFFSETFROM:-0700
TZOFFSETTO:-0800
TZNAME:PST
DTSTART:20241103T090000
END:STANDARD
BEGIN:DAYLIGHT
TZOFFSETFROM:-0800
TZOFFSETTO:-0700
TZNAME:PDT
DTSTART:20250309T100000
END:DAYLIGHT
BEGIN:STANDARD
TZOFFSETFROM:-0700
TZOFFSETTO:-0800
TZNAME:PST
DTSTART:20251102T090000
END:STANDARD
BEGIN:DAYLIGHT
TZOFFSETFROM:-0800
TZOFFSETTO:-0700
TZNAME:PDT
DTSTART:20260308T100000
END:DAYLIGHT
BEGIN:STANDARD
TZOFFSETFROM:-0700
TZOFFSETTO:-0800
TZNAME:PST
DTSTART:20261101T090000
END:STANDARD
END:VTIMEZONE
BEGIN:VEVENT
DTSTART;TZID=America/Los_Angeles:20250601T150000
DTEND;TZID=America/Los_Angeles:20250601T170000
DTSTAMP:20260424T073240
CREATED:20250529T170237Z
LAST-MODIFIED:20250529T170237Z
UID:7535-1748790000-1748797200@pebblestonecellars.biz
SUMMARY:Sunday Sounds with Shine On
DESCRIPTION:Get ready to groove at Pebblestone Cellars as we welcome the sensational trio SHINE ON for an unforgettable afternoon of Grateful Americana! With the incredible Steve Shine on guitar\, the smooth grooves of John Galloway on bass\, and the rhythmic beats of Cathy Dorris on drums\, this dynamic group will take you on a musical adventure through the iconic sounds of the Grateful Dead\, the Beatles\, Bob Dylan\, and Van Morrison. Picture this: sipping on our exquisite wines while being serenaded by three-part harmonies that will leave you wanting more! But hurry—tickets are flying faster than a summer breeze\, and you won’t want to miss this extraordinary blend of music and wine in our cozy\, inviting atmosphere. So\, gather your friends\, raise a glass\, and let’s make some memories together—secure your spot now and get ready to shine on! \nSee you on Sunday\, June 1st\, 3pm to 5pm \nPlease call 541-512-1655 for reservations
URL:https://pebblestonecellars.biz/event/sunday-sounds-with-shine-on/
LOCATION:Pebblestone Tasting Barn\, 1670 Pioneer Road\, Talent\, OR
CATEGORIES:Live Music
ATTACH;FMTTYPE=image/jpeg:https://pebblestonecellars.biz/wp-content/uploads/2025/05/shine-on2025.jpg
END:VEVENT
END:VCALENDAR