BEGIN:VCALENDAR
VERSION:2.0
PRODID:-//Pebblestone Cellars - ECPv6.15.20//NONSGML v1.0//EN
CALSCALE:GREGORIAN
METHOD:PUBLISH
X-ORIGINAL-URL:https://pebblestonecellars.biz
X-WR-CALDESC:Events for Pebblestone Cellars
REFRESH-INTERVAL;VALUE=DURATION:PT1H
X-Robots-Tag:noindex
X-PUBLISHED-TTL:PT1H
BEGIN:VTIMEZONE
TZID:America/Los_Angeles
BEGIN:DAYLIGHT
TZOFFSETFROM:-0800
TZOFFSETTO:-0700
TZNAME:PDT
DTSTART:20240310T100000
END:DAYLIGHT
BEGIN:STANDARD
TZOFFSETFROM:-0700
TZOFFSETTO:-0800
TZNAME:PST
DTSTART:20241103T090000
END:STANDARD
BEGIN:DAYLIGHT
TZOFFSETFROM:-0800
TZOFFSETTO:-0700
TZNAME:PDT
DTSTART:20250309T100000
END:DAYLIGHT
BEGIN:STANDARD
TZOFFSETFROM:-0700
TZOFFSETTO:-0800
TZNAME:PST
DTSTART:20251102T090000
END:STANDARD
BEGIN:DAYLIGHT
TZOFFSETFROM:-0800
TZOFFSETTO:-0700
TZNAME:PDT
DTSTART:20260308T100000
END:DAYLIGHT
BEGIN:STANDARD
TZOFFSETFROM:-0700
TZOFFSETTO:-0800
TZNAME:PST
DTSTART:20261101T090000
END:STANDARD
END:VTIMEZONE
BEGIN:VEVENT
DTSTART;TZID=America/Los_Angeles:20250525T150000
DTEND;TZID=America/Los_Angeles:20250525T170000
DTSTAMP:20260424T090551
CREATED:20250507T182816Z
LAST-MODIFIED:20250521T194851Z
UID:7494-1748185200-1748192400@pebblestonecellars.biz
SUMMARY:Sunday Sounds with Cathy Bolton
DESCRIPTION:Join us at Pebblestone Cellars for an unforgettable evening with the captivating Cathy Bolton! With her unique blend of Folk\, Country\, light Pop\, and a hint of blues\, Cathy’s music transcends genres and resonates with the heart\, much like our carefully crafted wines that embody the essence of our terroir. As an international recording artist with a rich repertoire of original songs and beloved classics from legends like John Denver and Joni Mitchell\, Cathy’s performances are more than just music—they’re heartfelt stories woven with humor and warmth that reflect the values of family and tradition we cherish at Pebblestone Cellars. Don’t miss this chance to create lasting memories while enjoying the delightful ambiance of our tasting room. Grab your tickets now and prepare for a night of soulful melodies and enchanting storytelling! \nSee you Sunday\nMay 25th\, 3pm to 5pm \nPlease call 541-512-1655 for reservations
URL:https://pebblestonecellars.biz/event/cathy-bolton/
LOCATION:Pebblestone Tasting Barn\, 1670 Pioneer Road\, Talent\, OR
CATEGORIES:Live Music
ATTACH;FMTTYPE=image/jpeg:https://pebblestonecellars.biz/wp-content/uploads/2025/05/CathyBolton2025.jpg
END:VEVENT
END:VCALENDAR