BEGIN:VCALENDAR
VERSION:2.0
PRODID:-//Pebblestone Cellars - ECPv6.15.20//NONSGML v1.0//EN
CALSCALE:GREGORIAN
METHOD:PUBLISH
X-ORIGINAL-URL:https://pebblestonecellars.biz
X-WR-CALDESC:Events for Pebblestone Cellars
REFRESH-INTERVAL;VALUE=DURATION:PT1H
X-Robots-Tag:noindex
X-PUBLISHED-TTL:PT1H
BEGIN:VTIMEZONE
TZID:America/Los_Angeles
BEGIN:DAYLIGHT
TZOFFSETFROM:-0800
TZOFFSETTO:-0700
TZNAME:PDT
DTSTART:20240310T100000
END:DAYLIGHT
BEGIN:STANDARD
TZOFFSETFROM:-0700
TZOFFSETTO:-0800
TZNAME:PST
DTSTART:20241103T090000
END:STANDARD
BEGIN:DAYLIGHT
TZOFFSETFROM:-0800
TZOFFSETTO:-0700
TZNAME:PDT
DTSTART:20250309T100000
END:DAYLIGHT
BEGIN:STANDARD
TZOFFSETFROM:-0700
TZOFFSETTO:-0800
TZNAME:PST
DTSTART:20251102T090000
END:STANDARD
BEGIN:DAYLIGHT
TZOFFSETFROM:-0800
TZOFFSETTO:-0700
TZNAME:PDT
DTSTART:20260308T100000
END:DAYLIGHT
BEGIN:STANDARD
TZOFFSETFROM:-0700
TZOFFSETTO:-0800
TZNAME:PST
DTSTART:20261101T090000
END:STANDARD
END:VTIMEZONE
BEGIN:VEVENT
DTSTART;TZID=America/Los_Angeles:20250502T170000
DTEND;TZID=America/Los_Angeles:20250502T190000
DTSTAMP:20260424T090429
CREATED:20250501T192648Z
LAST-MODIFIED:20250501T192656Z
UID:7474-1746205200-1746212400@pebblestonecellars.biz
SUMMARY:Friday Fun with Sonida Allegre
DESCRIPTION:Get ready to uncork an unforgettable afternoon at Pebblestone Cellars\, where the melodies of Charles Guy and Linda Powers will be flowing as freely as our finest wines! Charles brings a delightful blend of bluegrass\, soul\, and Carolina beach vibes from his North Carolina roots\, while Linda adds a dash of magic with her violin\, honed in the lively world of Gypsy swing bands. Together\, they’ll serve up a musical feast that features original tunes infused with Latin\, Spanish\, flamenco\, and Gypsy influences\, alongside some beloved folk rock favorites. So grab your friends\, raise a glass\, and let’s toast to good times and great tunes! Join us for an afternoon where the wine is as rich as the music\, and every sip is a step into our vibrant community. You won’t want to miss this harmonious pairing! \nReservations Recommended\nCall 541-512-1655
URL:https://pebblestonecellars.biz/event/friday-fun-with-sonida-allegre/
LOCATION:Pebblestone Tasting Barn\, 1670 Pioneer Road\, Talent\, OR
CATEGORIES:Live Music
ATTACH;FMTTYPE=image/jpeg:https://pebblestonecellars.biz/wp-content/uploads/2022/07/sonido-allegre-2021.jpg
END:VEVENT
END:VCALENDAR