BEGIN:VCALENDAR
VERSION:2.0
PRODID:-//Pebblestone Cellars - ECPv6.15.20//NONSGML v1.0//EN
CALSCALE:GREGORIAN
METHOD:PUBLISH
X-ORIGINAL-URL:https://pebblestonecellars.biz
X-WR-CALDESC:Events for Pebblestone Cellars
REFRESH-INTERVAL;VALUE=DURATION:PT1H
X-Robots-Tag:noindex
X-PUBLISHED-TTL:PT1H
BEGIN:VTIMEZONE
TZID:America/Los_Angeles
BEGIN:DAYLIGHT
TZOFFSETFROM:-0800
TZOFFSETTO:-0700
TZNAME:PDT
DTSTART:20240310T100000
END:DAYLIGHT
BEGIN:STANDARD
TZOFFSETFROM:-0700
TZOFFSETTO:-0800
TZNAME:PST
DTSTART:20241103T090000
END:STANDARD
BEGIN:DAYLIGHT
TZOFFSETFROM:-0800
TZOFFSETTO:-0700
TZNAME:PDT
DTSTART:20250309T100000
END:DAYLIGHT
BEGIN:STANDARD
TZOFFSETFROM:-0700
TZOFFSETTO:-0800
TZNAME:PST
DTSTART:20251102T090000
END:STANDARD
BEGIN:DAYLIGHT
TZOFFSETFROM:-0800
TZOFFSETTO:-0700
TZNAME:PDT
DTSTART:20260308T100000
END:DAYLIGHT
BEGIN:STANDARD
TZOFFSETFROM:-0700
TZOFFSETTO:-0800
TZNAME:PST
DTSTART:20261101T090000
END:STANDARD
END:VTIMEZONE
BEGIN:VEVENT
DTSTART;TZID=America/Los_Angeles:20250425T170000
DTEND;TZID=America/Los_Angeles:20250425T190000
DTSTAMP:20260424T102945
CREATED:20250327T175425Z
LAST-MODIFIED:20250423T184242Z
UID:7428-1745600400-1745607600@pebblestonecellars.biz
SUMMARY:Tension Deficit
DESCRIPTION:We’re thrilled to invite you to an unforgettable evening filled with music\, laughter\, and the warmth of community as we welcome Tension Deficit to our winery again! This dynamic band brings an eclectic variety of songs that will resonate with your heart and soul\, ranging from beautiful R&B ballads to the powerful rhythms of delta and Chicago-style blues. \nWith a perfect blend of vintage classics and modern hits\, Tension Deficit is sure to have you on your feet\, dancing the night away under the stars. The velvet vocals of Genevieve Predmore\, paired with the exceptional guitar skills of Russ Carter\, will take you on a captivating journey through time\, evoking a spectrum of emotions that will leave you wanting more. \nJoin us for a lovely evening of wine\, food\, and dance! \nReservations Recommended\nCall 541-512-1655
URL:https://pebblestonecellars.biz/event/tension-deficit-5/
LOCATION:Pebblestone Tasting Barn\, 1670 Pioneer Road\, Talent\, OR
CATEGORIES:Live Music
ATTACH;FMTTYPE=image/jpeg:https://pebblestonecellars.biz/wp-content/uploads/2024/04/tensiondeficit2024.jpg
END:VEVENT
END:VCALENDAR