BEGIN:VCALENDAR
VERSION:2.0
PRODID:-//Pebblestone Cellars - ECPv6.15.20//NONSGML v1.0//EN
CALSCALE:GREGORIAN
METHOD:PUBLISH
X-ORIGINAL-URL:https://pebblestonecellars.biz
X-WR-CALDESC:Events for Pebblestone Cellars
REFRESH-INTERVAL;VALUE=DURATION:PT1H
X-Robots-Tag:noindex
X-PUBLISHED-TTL:PT1H
BEGIN:VTIMEZONE
TZID:America/Los_Angeles
BEGIN:DAYLIGHT
TZOFFSETFROM:-0800
TZOFFSETTO:-0700
TZNAME:PDT
DTSTART:20240310T100000
END:DAYLIGHT
BEGIN:STANDARD
TZOFFSETFROM:-0700
TZOFFSETTO:-0800
TZNAME:PST
DTSTART:20241103T090000
END:STANDARD
BEGIN:DAYLIGHT
TZOFFSETFROM:-0800
TZOFFSETTO:-0700
TZNAME:PDT
DTSTART:20250309T100000
END:DAYLIGHT
BEGIN:STANDARD
TZOFFSETFROM:-0700
TZOFFSETTO:-0800
TZNAME:PST
DTSTART:20251102T090000
END:STANDARD
BEGIN:DAYLIGHT
TZOFFSETFROM:-0800
TZOFFSETTO:-0700
TZNAME:PDT
DTSTART:20260308T100000
END:DAYLIGHT
BEGIN:STANDARD
TZOFFSETFROM:-0700
TZOFFSETTO:-0800
TZNAME:PST
DTSTART:20261101T090000
END:STANDARD
END:VTIMEZONE
BEGIN:VEVENT
DTSTART;TZID=America/Los_Angeles:20250420T150000
DTEND;TZID=America/Los_Angeles:20250420T170000
DTSTAMP:20260424T103835
CREATED:20250327T175201Z
LAST-MODIFIED:20250416T201613Z
UID:7425-1745161200-1745168400@pebblestonecellars.biz
SUMMARY:Shybo Duo
DESCRIPTION:Get ready to feel the rhythm and sip on some good vibes as we welcome the incredible Shybo Torres to Pebblestone Cellars! This talented artist has been serenading the Rogue Valley with his smooth baritone and eclectic mix of tunes for years. His musical odyssey began at a tender age\, from rockin’ out on drums to plucking strings and blowing into flutes like a true maestro. Shybo’s original songs are sure to be the perfect pairing for our fine wines\, creating an unforgettable harmony of flavors and sounds. Join us for a night where the music flows as freely as the wine\, and let’s make some melodious memories together! \nSee you on Easter Sunday\n☀️\nApril 20th\, 3pm to 5pm
URL:https://pebblestonecellars.biz/event/shybo-duo/
LOCATION:Pebblestone Tasting Barn\, 1670 Pioneer Road\, Talent\, OR
CATEGORIES:Live Music
ATTACH;FMTTYPE=image/jpeg:https://pebblestonecellars.biz/wp-content/uploads/2023/11/shyboTorres1223.jpg
END:VEVENT
END:VCALENDAR