BEGIN:VCALENDAR
VERSION:2.0
PRODID:-//Pebblestone Cellars - ECPv6.15.20//NONSGML v1.0//EN
CALSCALE:GREGORIAN
METHOD:PUBLISH
X-ORIGINAL-URL:https://pebblestonecellars.biz
X-WR-CALDESC:Events for Pebblestone Cellars
REFRESH-INTERVAL;VALUE=DURATION:PT1H
X-Robots-Tag:noindex
X-PUBLISHED-TTL:PT1H
BEGIN:VTIMEZONE
TZID:America/Los_Angeles
BEGIN:DAYLIGHT
TZOFFSETFROM:-0800
TZOFFSETTO:-0700
TZNAME:PDT
DTSTART:20240310T100000
END:DAYLIGHT
BEGIN:STANDARD
TZOFFSETFROM:-0700
TZOFFSETTO:-0800
TZNAME:PST
DTSTART:20241103T090000
END:STANDARD
BEGIN:DAYLIGHT
TZOFFSETFROM:-0800
TZOFFSETTO:-0700
TZNAME:PDT
DTSTART:20250309T100000
END:DAYLIGHT
BEGIN:STANDARD
TZOFFSETFROM:-0700
TZOFFSETTO:-0800
TZNAME:PST
DTSTART:20251102T090000
END:STANDARD
BEGIN:DAYLIGHT
TZOFFSETFROM:-0800
TZOFFSETTO:-0700
TZNAME:PDT
DTSTART:20260308T100000
END:DAYLIGHT
BEGIN:STANDARD
TZOFFSETFROM:-0700
TZOFFSETTO:-0800
TZNAME:PST
DTSTART:20261101T090000
END:STANDARD
END:VTIMEZONE
BEGIN:VEVENT
DTSTART;TZID=America/Los_Angeles:20250418T170000
DTEND;TZID=America/Los_Angeles:20250418T190000
DTSTAMP:20260424T102945
CREATED:20250327T174609Z
LAST-MODIFIED:20250416T201406Z
UID:7419-1744995600-1745002800@pebblestonecellars.biz
SUMMARY:Ambrose & Galfano
DESCRIPTION:Jen Ambrose and Jon Galfano are known for their electrifying performances that resonate with music lovers of all ages. With a delightful mix of guitars\, mandolins\, Jens enchanting flute melodies\, and Jons captivating keyboard skills\, they weave a tapestry of sound thats simply irresistible. You’ll be tapping your feet and singing along as they showcase several new original tracks from Jens latest album\, Plenty Of Nothin To Do. Prepare to be transported through time as the duo pays homage to rock legends with their renditions of timeless classics from The Beatles\, Elton John\, The Moody Blues\, Rod Stewart\, Led Zeppelin\, Crosby\, Stills\, and Nash\, and so many more! Each note will be paired perfectly with a glass of our finest wine\, creating a magical experience that you won’t want to miss!
URL:https://pebblestonecellars.biz/event/ambrose-galfano-3/
LOCATION:Pebblestone Tasting Barn\, 1670 Pioneer Road\, Talent\, OR
CATEGORIES:Live Music
ATTACH;FMTTYPE=image/jpeg:https://pebblestonecellars.biz/wp-content/uploads/2023/09/Ambrose-Galfano.jpg
END:VEVENT
END:VCALENDAR