BEGIN:VCALENDAR
VERSION:2.0
PRODID:-//Pebblestone Cellars - ECPv6.15.20//NONSGML v1.0//EN
CALSCALE:GREGORIAN
METHOD:PUBLISH
X-WR-CALNAME:Pebblestone Cellars
X-ORIGINAL-URL:https://pebblestonecellars.biz
X-WR-CALDESC:Events for Pebblestone Cellars
REFRESH-INTERVAL;VALUE=DURATION:PT1H
X-Robots-Tag:noindex
X-PUBLISHED-TTL:PT1H
BEGIN:VTIMEZONE
TZID:America/Los_Angeles
BEGIN:DAYLIGHT
TZOFFSETFROM:-0800
TZOFFSETTO:-0700
TZNAME:PDT
DTSTART:20240310T100000
END:DAYLIGHT
BEGIN:STANDARD
TZOFFSETFROM:-0700
TZOFFSETTO:-0800
TZNAME:PST
DTSTART:20241103T090000
END:STANDARD
BEGIN:DAYLIGHT
TZOFFSETFROM:-0800
TZOFFSETTO:-0700
TZNAME:PDT
DTSTART:20250309T100000
END:DAYLIGHT
BEGIN:STANDARD
TZOFFSETFROM:-0700
TZOFFSETTO:-0800
TZNAME:PST
DTSTART:20251102T090000
END:STANDARD
BEGIN:DAYLIGHT
TZOFFSETFROM:-0800
TZOFFSETTO:-0700
TZNAME:PDT
DTSTART:20260308T100000
END:DAYLIGHT
BEGIN:STANDARD
TZOFFSETFROM:-0700
TZOFFSETTO:-0800
TZNAME:PST
DTSTART:20261101T090000
END:STANDARD
END:VTIMEZONE
BEGIN:VEVENT
DTSTART;TZID=America/Los_Angeles:20250413T150000
DTEND;TZID=America/Los_Angeles:20250413T170000
DTSTAMP:20260424T102721
CREATED:20250327T174136Z
LAST-MODIFIED:20250409T183925Z
UID:7416-1744556400-1744563600@pebblestonecellars.biz
SUMMARY:Dennis Konecky
DESCRIPTION:Get ready to groove with Dennis Konecny\, the Rogue Valley’s very own musical maestro! With an impressive 45 years of experience strumming the strings of joy\, Dennis has transitioned from the sunny stages of California with the Easy Street Band to enchanting audiences in Oregon for the past three years. \nHis high-energy performances feature a delightful mix of Classic Oldies\, Modern Country\, Blues\, and the irresistible beats of 50s Rockabilly. If you haven’t caught his electrifying shows yet\, don’t fret! You can easily find his music schedule on Facebook and prepare to be swept off your feet. Don’t miss out on the chance to experience a night filled with unforgettable tunes and infectious energy it’s a concert that will have you singing along and dancing all night long! \nPlease call 541-512-1655 for reservations
URL:https://pebblestonecellars.biz/event/dennis-konecky-2/
LOCATION:Pebblestone Tasting Barn\, 1670 Pioneer Road\, Talent\, OR
CATEGORIES:Live Music
ATTACH;FMTTYPE=image/jpeg:https://pebblestonecellars.biz/wp-content/uploads/2024/08/DennisKonecky2024.jpg
END:VEVENT
END:VCALENDAR