BEGIN:VCALENDAR
VERSION:2.0
PRODID:-//Pebblestone Cellars - ECPv6.15.20//NONSGML v1.0//EN
CALSCALE:GREGORIAN
METHOD:PUBLISH
X-ORIGINAL-URL:https://pebblestonecellars.biz
X-WR-CALDESC:Events for Pebblestone Cellars
REFRESH-INTERVAL;VALUE=DURATION:PT1H
X-Robots-Tag:noindex
X-PUBLISHED-TTL:PT1H
BEGIN:VTIMEZONE
TZID:America/Los_Angeles
BEGIN:DAYLIGHT
TZOFFSETFROM:-0800
TZOFFSETTO:-0700
TZNAME:PDT
DTSTART:20240310T100000
END:DAYLIGHT
BEGIN:STANDARD
TZOFFSETFROM:-0700
TZOFFSETTO:-0800
TZNAME:PST
DTSTART:20241103T090000
END:STANDARD
BEGIN:DAYLIGHT
TZOFFSETFROM:-0800
TZOFFSETTO:-0700
TZNAME:PDT
DTSTART:20250309T100000
END:DAYLIGHT
BEGIN:STANDARD
TZOFFSETFROM:-0700
TZOFFSETTO:-0800
TZNAME:PST
DTSTART:20251102T090000
END:STANDARD
BEGIN:DAYLIGHT
TZOFFSETFROM:-0800
TZOFFSETTO:-0700
TZNAME:PDT
DTSTART:20260308T100000
END:DAYLIGHT
BEGIN:STANDARD
TZOFFSETFROM:-0700
TZOFFSETTO:-0800
TZNAME:PST
DTSTART:20261101T090000
END:STANDARD
END:VTIMEZONE
BEGIN:VEVENT
DTSTART;TZID=America/Los_Angeles:20250406T150000
DTEND;TZID=America/Los_Angeles:20250406T170000
DTSTAMP:20260424T103828
CREATED:20250327T173555Z
LAST-MODIFIED:20250402T184808Z
UID:7411-1743951600-1743958800@pebblestonecellars.biz
SUMMARY:Tynan Phillips
DESCRIPTION:Through various connections\, we have Tynan Phillips stopping in to play a gig this Sunday. Tynan is a self-taught Blues/Jazz/Funk/Pop/Rock Musician from Lake Tahoe\, Nevada\, 22 years in the making. Beginning his guitar journey at 15 & picking up his style & a few quick lessons through jams. He started by opening for bands at 18 and now\, at 37\, his style is undeniably refined. Redoing the greats from 1920s Gypsy jazz to Al Green\, Bill Withers\, Johnny Winter\, the Beatles\, Steve Miller\, John Mayer\, Paul Simon & beyond. \n\nCome out this Sunday \nand enjoy a great performance with some great wine! \n\nPlease call 541-512-1655 for reservations
URL:https://pebblestonecellars.biz/event/tynan-phillips/
LOCATION:Pebblestone Tasting Barn\, 1670 Pioneer Road\, Talent\, OR
CATEGORIES:Live Music
END:VEVENT
END:VCALENDAR