BEGIN:VCALENDAR
VERSION:2.0
PRODID:-//Pebblestone Cellars - ECPv6.15.20//NONSGML v1.0//EN
CALSCALE:GREGORIAN
METHOD:PUBLISH
X-WR-CALNAME:Pebblestone Cellars
X-ORIGINAL-URL:https://pebblestonecellars.biz
X-WR-CALDESC:Events for Pebblestone Cellars
REFRESH-INTERVAL;VALUE=DURATION:PT1H
X-Robots-Tag:noindex
X-PUBLISHED-TTL:PT1H
BEGIN:VTIMEZONE
TZID:America/Los_Angeles
BEGIN:DAYLIGHT
TZOFFSETFROM:-0800
TZOFFSETTO:-0700
TZNAME:PDT
DTSTART:20240310T100000
END:DAYLIGHT
BEGIN:STANDARD
TZOFFSETFROM:-0700
TZOFFSETTO:-0800
TZNAME:PST
DTSTART:20241103T090000
END:STANDARD
BEGIN:DAYLIGHT
TZOFFSETFROM:-0800
TZOFFSETTO:-0700
TZNAME:PDT
DTSTART:20250309T100000
END:DAYLIGHT
BEGIN:STANDARD
TZOFFSETFROM:-0700
TZOFFSETTO:-0800
TZNAME:PST
DTSTART:20251102T090000
END:STANDARD
BEGIN:DAYLIGHT
TZOFFSETFROM:-0800
TZOFFSETTO:-0700
TZNAME:PDT
DTSTART:20260308T100000
END:DAYLIGHT
BEGIN:STANDARD
TZOFFSETFROM:-0700
TZOFFSETTO:-0800
TZNAME:PST
DTSTART:20261101T090000
END:STANDARD
END:VTIMEZONE
BEGIN:VEVENT
DTSTART;TZID=America/Los_Angeles:20250316T150000
DTEND;TZID=America/Los_Angeles:20250316T170000
DTSTAMP:20260424T122329
CREATED:20250312T204206Z
LAST-MODIFIED:20250312T204344Z
UID:7351-1742137200-1742144400@pebblestonecellars.biz
SUMMARY:Sunday Music with Joshua Paul
DESCRIPTION:Initially set on a path toward chemistry\, Joshua discovered that his true formula for happiness lies in strumming strings and belting out tunes that blend Americana\, rock\, country\, and blues. 🎶 Joshua’s captivating performances have had him playing at a variety of venues\, from lively bars to serene retirement communities\, and now he’s ready to pour his heart out right here at Pebblestone Cellars! Just like our handcrafted wines\, which are lovingly made from the finest grapes\, Joshua’s music is crafted with passion and dedication. You can taste the love in every note\, and we can’t wait for you to experience it! \nCome out this Sunday and enjoy \na great performance with some great wine!\nPlease call 541-512-1655 for reservations
URL:https://pebblestonecellars.biz/event/sunday-music-with-joshua-paul/
LOCATION:Pebblestone Tasting Barn\, 1670 Pioneer Road\, Talent\, OR
CATEGORIES:Live Music
ATTACH;FMTTYPE=image/jpeg:https://pebblestonecellars.biz/wp-content/uploads/2025/03/Joshua-Paul-800w.jpg
END:VEVENT
END:VCALENDAR