BEGIN:VCALENDAR
VERSION:2.0
PRODID:-//Pebblestone Cellars - ECPv6.15.20//NONSGML v1.0//EN
CALSCALE:GREGORIAN
METHOD:PUBLISH
X-WR-CALNAME:Pebblestone Cellars
X-ORIGINAL-URL:https://pebblestonecellars.biz
X-WR-CALDESC:Events for Pebblestone Cellars
REFRESH-INTERVAL;VALUE=DURATION:PT1H
X-Robots-Tag:noindex
X-PUBLISHED-TTL:PT1H
BEGIN:VTIMEZONE
TZID:America/Los_Angeles
BEGIN:DAYLIGHT
TZOFFSETFROM:-0800
TZOFFSETTO:-0700
TZNAME:PDT
DTSTART:20240310T100000
END:DAYLIGHT
BEGIN:STANDARD
TZOFFSETFROM:-0700
TZOFFSETTO:-0800
TZNAME:PST
DTSTART:20241103T090000
END:STANDARD
BEGIN:DAYLIGHT
TZOFFSETFROM:-0800
TZOFFSETTO:-0700
TZNAME:PDT
DTSTART:20250309T100000
END:DAYLIGHT
BEGIN:STANDARD
TZOFFSETFROM:-0700
TZOFFSETTO:-0800
TZNAME:PST
DTSTART:20251102T090000
END:STANDARD
BEGIN:DAYLIGHT
TZOFFSETFROM:-0800
TZOFFSETTO:-0700
TZNAME:PDT
DTSTART:20260308T100000
END:DAYLIGHT
BEGIN:STANDARD
TZOFFSETFROM:-0700
TZOFFSETTO:-0800
TZNAME:PST
DTSTART:20261101T090000
END:STANDARD
END:VTIMEZONE
BEGIN:VEVENT
DTSTART;TZID=America/Los_Angeles:20250307T080000
DTEND;TZID=America/Los_Angeles:20250307T170000
DTSTAMP:20260424T122330
CREATED:20250307T184620Z
LAST-MODIFIED:20250307T184634Z
UID:7336-1741334400-1741366800@pebblestonecellars.biz
SUMMARY:Friday Music with Marshall Thompson – Featuring Fred Epping
DESCRIPTION:Looking for top-notch live music? Marshall Thompson and Fred Epping deliver an incredible performance filled with rich vocals\, masterful guitar\, and an eclectic mix of songs. Marshall’s deep baritone and decades of experience shine\, while Fred’s virtuoso guitar\, rooted in country\, adds a dynamic edge. Together\, they bring you Americana\, acoustic rock\, crossover country\, folk\, and heartfelt originals—plus iconic covers from legends like Willie Nelson\, Johnny Cash\, Bob Dylan\, and Lyle Lovett. With plenty of sing-along moments and an energy that fills the room\, you might just find yourself dancing! \nDon’t miss this unforgettable evening of music\, wine\, and fun!  🎶✨ \n5pm to 7pm\, March 7th \nReservations Recommended – Call 541-512-1655
URL:https://pebblestonecellars.biz/event/friday-music-with-marshall-thompson-featuring-fred-epping/
LOCATION:Pebblestone Tasting Barn\, 1670 Pioneer Road\, Talent\, OR
CATEGORIES:Live Music
ATTACH;FMTTYPE=image/jpeg:https://pebblestonecellars.biz/wp-content/uploads/2025/03/thompson-epping2025.jpg
END:VEVENT
END:VCALENDAR