BEGIN:VCALENDAR
VERSION:2.0
PRODID:-//Pebblestone Cellars - ECPv6.15.20//NONSGML v1.0//EN
CALSCALE:GREGORIAN
METHOD:PUBLISH
X-WR-CALNAME:Pebblestone Cellars
X-ORIGINAL-URL:https://pebblestonecellars.biz
X-WR-CALDESC:Events for Pebblestone Cellars
REFRESH-INTERVAL;VALUE=DURATION:PT1H
X-Robots-Tag:noindex
X-PUBLISHED-TTL:PT1H
BEGIN:VTIMEZONE
TZID:America/Los_Angeles
BEGIN:DAYLIGHT
TZOFFSETFROM:-0800
TZOFFSETTO:-0700
TZNAME:PDT
DTSTART:20240310T100000
END:DAYLIGHT
BEGIN:STANDARD
TZOFFSETFROM:-0700
TZOFFSETTO:-0800
TZNAME:PST
DTSTART:20241103T090000
END:STANDARD
BEGIN:DAYLIGHT
TZOFFSETFROM:-0800
TZOFFSETTO:-0700
TZNAME:PDT
DTSTART:20250309T100000
END:DAYLIGHT
BEGIN:STANDARD
TZOFFSETFROM:-0700
TZOFFSETTO:-0800
TZNAME:PST
DTSTART:20251102T090000
END:STANDARD
BEGIN:DAYLIGHT
TZOFFSETFROM:-0800
TZOFFSETTO:-0700
TZNAME:PDT
DTSTART:20260308T100000
END:DAYLIGHT
BEGIN:STANDARD
TZOFFSETFROM:-0700
TZOFFSETTO:-0800
TZNAME:PST
DTSTART:20261101T090000
END:STANDARD
END:VTIMEZONE
BEGIN:VEVENT
DTSTART;TZID=America/Los_Angeles:20250202T150000
DTEND;TZID=America/Los_Angeles:20250202T170000
DTSTAMP:20260424T135352
CREATED:20250110T212212Z
LAST-MODIFIED:20250110T212315Z
UID:7172-1738508400-1738515600@pebblestonecellars.biz
SUMMARY:Ann Kelly & Mark Ross
DESCRIPTION:We are pleased to welcome back the talented duo of Ann Kelly and Mark Ross who will be gracing the Pebblestone Tasting Room once again for another incredible performance! \nAnn is a talented vocalist and songwriter originally from California\, who has been captivating audiences with her unique blend of pop\, jazz\, and blues. Her dark\, sultry\, and emotional vocals have earned her critical acclaim\, and we are honored to have her perform again at Pebblestone. \nBut Ann is not alone in her musical talents—she will be accompanied by her husband\, Mark Ross\, a fantastic keyboardist and an Emmy award-winning composer. Together\, this dynamic duo is sure to impress and leave you wanting more. So mark your calendars and join us for an unforgettable afternoon of music and entertainment with Ann Kelly and Mark Ross at Pebblestone!
URL:https://pebblestonecellars.biz/event/ann-kelly-mark-ross/
LOCATION:Pebblestone Tasting Barn\, 1670 Pioneer Road\, Talent\, OR
CATEGORIES:Live Music
ATTACH;FMTTYPE=image/jpeg:https://pebblestonecellars.biz/wp-content/uploads/2023/11/AnnKelly1123.jpg
END:VEVENT
END:VCALENDAR