BEGIN:VCALENDAR
VERSION:2.0
PRODID:-//Pebblestone Cellars - ECPv6.15.20//NONSGML v1.0//EN
CALSCALE:GREGORIAN
METHOD:PUBLISH
X-WR-CALNAME:Pebblestone Cellars
X-ORIGINAL-URL:https://pebblestonecellars.biz
X-WR-CALDESC:Events for Pebblestone Cellars
REFRESH-INTERVAL;VALUE=DURATION:PT1H
X-Robots-Tag:noindex
X-PUBLISHED-TTL:PT1H
BEGIN:VTIMEZONE
TZID:America/Los_Angeles
BEGIN:DAYLIGHT
TZOFFSETFROM:-0800
TZOFFSETTO:-0700
TZNAME:PDT
DTSTART:20240310T100000
END:DAYLIGHT
BEGIN:STANDARD
TZOFFSETFROM:-0700
TZOFFSETTO:-0800
TZNAME:PST
DTSTART:20241103T090000
END:STANDARD
BEGIN:DAYLIGHT
TZOFFSETFROM:-0800
TZOFFSETTO:-0700
TZNAME:PDT
DTSTART:20250309T100000
END:DAYLIGHT
BEGIN:STANDARD
TZOFFSETFROM:-0700
TZOFFSETTO:-0800
TZNAME:PST
DTSTART:20251102T090000
END:STANDARD
BEGIN:DAYLIGHT
TZOFFSETFROM:-0800
TZOFFSETTO:-0700
TZNAME:PDT
DTSTART:20260308T100000
END:DAYLIGHT
BEGIN:STANDARD
TZOFFSETFROM:-0700
TZOFFSETTO:-0800
TZNAME:PST
DTSTART:20261101T090000
END:STANDARD
END:VTIMEZONE
BEGIN:VEVENT
DTSTART;TZID=America/Los_Angeles:20250124T170000
DTEND;TZID=America/Los_Angeles:20250124T190000
DTSTAMP:20260424T152649
CREATED:20250109T213730Z
LAST-MODIFIED:20250123T235512Z
UID:7155-1737738000-1737745200@pebblestonecellars.biz
SUMMARY:Gary Dunsmoor
DESCRIPTION:Join us at Pebblestone Cellars for an unforgettable evening where music meets merriment! \nGary Dunsmoor is set to serenade you with his vibrant mix of blues\, rock\, funk\, R&B\, and heartfelt acoustic melodies. Whether you want to sway to soothing tunes or bust a move to high-energy beats\, Gary’s eclectic repertoire has something for everyone. Come sip on our exquisite wines while enjoying the rhythm of the night! Don’t miss out on this harmonious experience that’s sure to leave you singing and smiling\, let’s make it a night to remember!
URL:https://pebblestonecellars.biz/event/open-5-2/
LOCATION:Pebblestone Tasting Barn\, 1670 Pioneer Road\, Talent\, OR
CATEGORIES:Live Music
ATTACH;FMTTYPE=image/jpeg:https://pebblestonecellars.biz/wp-content/uploads/2025/01/image-1.jpeg
END:VEVENT
END:VCALENDAR