BEGIN:VCALENDAR
VERSION:2.0
PRODID:-//Pebblestone Cellars - ECPv6.15.20//NONSGML v1.0//EN
CALSCALE:GREGORIAN
METHOD:PUBLISH
X-WR-CALNAME:Pebblestone Cellars
X-ORIGINAL-URL:https://pebblestonecellars.biz
X-WR-CALDESC:Events for Pebblestone Cellars
REFRESH-INTERVAL;VALUE=DURATION:PT1H
X-Robots-Tag:noindex
X-PUBLISHED-TTL:PT1H
BEGIN:VTIMEZONE
TZID:America/Los_Angeles
BEGIN:DAYLIGHT
TZOFFSETFROM:-0800
TZOFFSETTO:-0700
TZNAME:PDT
DTSTART:20240310T100000
END:DAYLIGHT
BEGIN:STANDARD
TZOFFSETFROM:-0700
TZOFFSETTO:-0800
TZNAME:PST
DTSTART:20241103T090000
END:STANDARD
BEGIN:DAYLIGHT
TZOFFSETFROM:-0800
TZOFFSETTO:-0700
TZNAME:PDT
DTSTART:20250309T100000
END:DAYLIGHT
BEGIN:STANDARD
TZOFFSETFROM:-0700
TZOFFSETTO:-0800
TZNAME:PST
DTSTART:20251102T090000
END:STANDARD
BEGIN:DAYLIGHT
TZOFFSETFROM:-0800
TZOFFSETTO:-0700
TZNAME:PDT
DTSTART:20260308T100000
END:DAYLIGHT
BEGIN:STANDARD
TZOFFSETFROM:-0700
TZOFFSETTO:-0800
TZNAME:PST
DTSTART:20261101T090000
END:STANDARD
END:VTIMEZONE
BEGIN:VEVENT
DTSTART;TZID=America/Los_Angeles:20250119T150000
DTEND;TZID=America/Los_Angeles:20250119T170000
DTSTAMP:20260424T152649
CREATED:20250109T213555Z
LAST-MODIFIED:20250116T213146Z
UID:7152-1737298800-1737306000@pebblestonecellars.biz
SUMMARY:Ambrose & Galfano
DESCRIPTION:Rounding out the Opening week of live music at Pebblestone is the talented duo of Jen Ambrose and Jon Galfano. Both Jen and John have entertained guests at Pebblestone for several years as individual performers and for the past two plus years\, they have teamed up as an amazing musical duo. Pebblestone  welcomes them back in 2025 for another great performance on Sunday afternoon\, . This dynamic duo performs a wide selection of classic iconic rock hits from The Beatles\, Elton John\, The Moody Blues\, as well as some of Jen’s latest originals from her new upcoming album.
URL:https://pebblestonecellars.biz/event/ambrose-galfano-2-2/
LOCATION:Pebblestone Tasting Barn\, 1670 Pioneer Road\, Talent\, OR
CATEGORIES:Live Music
ATTACH;FMTTYPE=image/jpeg:https://pebblestonecellars.biz/wp-content/uploads/2023/09/Ambrose-Galfano.jpg
END:VEVENT
END:VCALENDAR