BEGIN:VCALENDAR
VERSION:2.0
PRODID:-//Pebblestone Cellars - ECPv6.15.20//NONSGML v1.0//EN
CALSCALE:GREGORIAN
METHOD:PUBLISH
X-ORIGINAL-URL:https://pebblestonecellars.biz
X-WR-CALDESC:Events for Pebblestone Cellars
REFRESH-INTERVAL;VALUE=DURATION:PT1H
X-Robots-Tag:noindex
X-PUBLISHED-TTL:PT1H
BEGIN:VTIMEZONE
TZID:America/Los_Angeles
BEGIN:DAYLIGHT
TZOFFSETFROM:-0800
TZOFFSETTO:-0700
TZNAME:PDT
DTSTART:20240310T100000
END:DAYLIGHT
BEGIN:STANDARD
TZOFFSETFROM:-0700
TZOFFSETTO:-0800
TZNAME:PST
DTSTART:20241103T090000
END:STANDARD
BEGIN:DAYLIGHT
TZOFFSETFROM:-0800
TZOFFSETTO:-0700
TZNAME:PDT
DTSTART:20250309T100000
END:DAYLIGHT
BEGIN:STANDARD
TZOFFSETFROM:-0700
TZOFFSETTO:-0800
TZNAME:PST
DTSTART:20251102T090000
END:STANDARD
BEGIN:DAYLIGHT
TZOFFSETFROM:-0800
TZOFFSETTO:-0700
TZNAME:PDT
DTSTART:20260308T100000
END:DAYLIGHT
BEGIN:STANDARD
TZOFFSETFROM:-0700
TZOFFSETTO:-0800
TZNAME:PST
DTSTART:20261101T090000
END:STANDARD
END:VTIMEZONE
BEGIN:VEVENT
DTSTART;TZID=America/Los_Angeles:20250117T170000
DTEND;TZID=America/Los_Angeles:20250117T190000
DTSTAMP:20260424T152802
CREATED:20250109T213128Z
LAST-MODIFIED:20250116T212849Z
UID:7147-1737133200-1737140400@pebblestonecellars.biz
SUMMARY:Shybo Torres
DESCRIPTION:Opening up the 2025 Live Music Season at Pebblestone is a popular local performer\, Shybo Torres. \nBorn in Puerto Rico\, Shybo moved to New York when he was 8 years old. He started his passionate journey into music when he learned to play drums at age 10 in a little rock band with some friends. He began playing guitar at 13 and the flute at age 16. After moving to South Carolina\, he began to write original songs and performed at coffee houses in the 70’s. Shybo has continued his musical career in the Rogue Valley for many years and is well known for his baritone voice and broad playlist of songs. \nCome out and this Sunday and enjoy a great performance\nwith some great wine and cool but sunny weather! \n☀️
URL:https://pebblestonecellars.biz/event/shybo-torres-4/
LOCATION:Pebblestone Tasting Barn\, 1670 Pioneer Road\, Talent\, OR
CATEGORIES:Live Music
ATTACH;FMTTYPE=image/jpeg:https://pebblestonecellars.biz/wp-content/uploads/2024/08/ShyboTorres2024.jpg
END:VEVENT
END:VCALENDAR