BEGIN:VCALENDAR
VERSION:2.0
PRODID:-//Pebblestone Cellars - ECPv6.15.20//NONSGML v1.0//EN
CALSCALE:GREGORIAN
METHOD:PUBLISH
X-ORIGINAL-URL:https://pebblestonecellars.biz
X-WR-CALDESC:Events for Pebblestone Cellars
REFRESH-INTERVAL;VALUE=DURATION:PT1H
X-Robots-Tag:noindex
X-PUBLISHED-TTL:PT1H
BEGIN:VTIMEZONE
TZID:America/Los_Angeles
BEGIN:DAYLIGHT
TZOFFSETFROM:-0800
TZOFFSETTO:-0700
TZNAME:PDT
DTSTART:20230312T100000
END:DAYLIGHT
BEGIN:STANDARD
TZOFFSETFROM:-0700
TZOFFSETTO:-0800
TZNAME:PST
DTSTART:20231105T090000
END:STANDARD
BEGIN:DAYLIGHT
TZOFFSETFROM:-0800
TZOFFSETTO:-0700
TZNAME:PDT
DTSTART:20240310T100000
END:DAYLIGHT
BEGIN:STANDARD
TZOFFSETFROM:-0700
TZOFFSETTO:-0800
TZNAME:PST
DTSTART:20241103T090000
END:STANDARD
BEGIN:DAYLIGHT
TZOFFSETFROM:-0800
TZOFFSETTO:-0700
TZNAME:PDT
DTSTART:20250309T100000
END:DAYLIGHT
BEGIN:STANDARD
TZOFFSETFROM:-0700
TZOFFSETTO:-0800
TZNAME:PST
DTSTART:20251102T090000
END:STANDARD
END:VTIMEZONE
BEGIN:VEVENT
DTSTART;TZID=America/Los_Angeles:20241222T150000
DTEND;TZID=America/Los_Angeles:20241222T170000
DTSTAMP:20260424T165204
CREATED:20241112T220655Z
LAST-MODIFIED:20241220T174121Z
UID:7068-1734879600-1734886800@pebblestonecellars.biz
SUMMARY:Jen Ambrose
DESCRIPTION:Get ready to uncork an unforgettable afternoon at Pebblestone Cellars\, where the atmosphere is as inviting as a warm hug and music by the incredibly talented Jen Ambrose that is sure to strike a chord. Her playlist is a unique blend of Blues\, Jazz\, Americana\, and Rock that will have you tapping your toes and raising your glass. From her original tunes off her latest album\, Plenty Of Nothin’ To Do\, to beloved classics spanning from Bonnie Raitt to Led Zeppelin\, there’s something for every music lover to enjoy. \nPair her mesmerizing melodies with our fine wines\, and you’ve got the perfect recipe for a memorable outing! So gather your friends and family\, and create some beautiful memories together because at Pebblestone\, we believe that great music and fine wine make the best duet!
URL:https://pebblestonecellars.biz/event/jen-ambrose-2/
LOCATION:Pebblestone Tasting Barn\, 1670 Pioneer Road\, Talent\, OR
CATEGORIES:Live Music
ATTACH;FMTTYPE=image/jpeg:https://pebblestonecellars.biz/wp-content/uploads/2024/02/JenAmbrose2024.jpg
END:VEVENT
END:VCALENDAR