BEGIN:VCALENDAR
VERSION:2.0
PRODID:-//Pebblestone Cellars - ECPv6.15.20//NONSGML v1.0//EN
CALSCALE:GREGORIAN
METHOD:PUBLISH
X-WR-CALNAME:Pebblestone Cellars
X-ORIGINAL-URL:https://pebblestonecellars.biz
X-WR-CALDESC:Events for Pebblestone Cellars
REFRESH-INTERVAL;VALUE=DURATION:PT1H
X-Robots-Tag:noindex
X-PUBLISHED-TTL:PT1H
BEGIN:VTIMEZONE
TZID:America/Los_Angeles
BEGIN:DAYLIGHT
TZOFFSETFROM:-0800
TZOFFSETTO:-0700
TZNAME:PDT
DTSTART:20230312T100000
END:DAYLIGHT
BEGIN:STANDARD
TZOFFSETFROM:-0700
TZOFFSETTO:-0800
TZNAME:PST
DTSTART:20231105T090000
END:STANDARD
BEGIN:DAYLIGHT
TZOFFSETFROM:-0800
TZOFFSETTO:-0700
TZNAME:PDT
DTSTART:20240310T100000
END:DAYLIGHT
BEGIN:STANDARD
TZOFFSETFROM:-0700
TZOFFSETTO:-0800
TZNAME:PST
DTSTART:20241103T090000
END:STANDARD
BEGIN:DAYLIGHT
TZOFFSETFROM:-0800
TZOFFSETTO:-0700
TZNAME:PDT
DTSTART:20250309T100000
END:DAYLIGHT
BEGIN:STANDARD
TZOFFSETFROM:-0700
TZOFFSETTO:-0800
TZNAME:PST
DTSTART:20251102T090000
END:STANDARD
END:VTIMEZONE
BEGIN:VEVENT
DTSTART;TZID=America/Los_Angeles:20241020T150000
DTEND;TZID=America/Los_Angeles:20241020T170000
DTSTAMP:20260424T201032
CREATED:20241017T182807Z
LAST-MODIFIED:20241022T173628Z
UID:6980-1729436400-1729443600@pebblestonecellars.biz
SUMMARY:Gary Dunsmoor & Alan Crutcher
DESCRIPTION:Allen Crutcher and Gary Dunsmoor have found a shared love of music\, songwriting craft\, and playing each other’s music\, and want to share some wonderful music with you. \nAllen Crutcher is a gifted song writer and multi-instrumentalist. He has been a part of the local music scene for years\, collaborating both in bands and with individual musicians. Allen’s original songs are not only artfully crafted\, their lyrics capture all the beauty and humanity of everyday life\, in songs about love\, friendship\, loss\, and the joy of living. \nGary Dunsmoor has a love for all kinds of music\, and is a sucker for melody\, harmony\, and expressive lyrics. Over the years\, he has played as a lead and rhythm guitar player in several rock bands\, an electric bass player with New Orleans-style R&B\, funk\, and rock bands\, and an acoustic guitarist / singer performing as a solo act\, as well as collaborating and performing with other local artists.at foster connection and joy\, so come make some beautiful memories with us!
URL:https://pebblestonecellars.biz/event/gary-dunsmoor-alan-crutcher/
LOCATION:Pebblestone Tasting Barn\, 1670 Pioneer Road\, Talent\, OR
CATEGORIES:Live Music
ATTACH;FMTTYPE=image/jpeg:https://pebblestonecellars.biz/wp-content/uploads/2024/10/dunsmoor-crutcher2024-e1751496131556.jpg
END:VEVENT
END:VCALENDAR