BEGIN:VCALENDAR
VERSION:2.0
PRODID:-//Pebblestone Cellars - ECPv6.15.20//NONSGML v1.0//EN
CALSCALE:GREGORIAN
METHOD:PUBLISH
X-ORIGINAL-URL:https://pebblestonecellars.biz
X-WR-CALDESC:Events for Pebblestone Cellars
REFRESH-INTERVAL;VALUE=DURATION:PT1H
X-Robots-Tag:noindex
X-PUBLISHED-TTL:PT1H
BEGIN:VTIMEZONE
TZID:America/Los_Angeles
BEGIN:DAYLIGHT
TZOFFSETFROM:-0800
TZOFFSETTO:-0700
TZNAME:PDT
DTSTART:20230312T100000
END:DAYLIGHT
BEGIN:STANDARD
TZOFFSETFROM:-0700
TZOFFSETTO:-0800
TZNAME:PST
DTSTART:20231105T090000
END:STANDARD
BEGIN:DAYLIGHT
TZOFFSETFROM:-0800
TZOFFSETTO:-0700
TZNAME:PDT
DTSTART:20240310T100000
END:DAYLIGHT
BEGIN:STANDARD
TZOFFSETFROM:-0700
TZOFFSETTO:-0800
TZNAME:PST
DTSTART:20241103T090000
END:STANDARD
BEGIN:DAYLIGHT
TZOFFSETFROM:-0800
TZOFFSETTO:-0700
TZNAME:PDT
DTSTART:20250309T100000
END:DAYLIGHT
BEGIN:STANDARD
TZOFFSETFROM:-0700
TZOFFSETTO:-0800
TZNAME:PST
DTSTART:20251102T090000
END:STANDARD
END:VTIMEZONE
BEGIN:VEVENT
DTSTART;TZID=America/Los_Angeles:20241013T150000
DTEND;TZID=America/Los_Angeles:20241013T170000
DTSTAMP:20260424T201228
CREATED:20241011T235947Z
LAST-MODIFIED:20241011T235947Z
UID:6972-1728831600-1728838800@pebblestonecellars.biz
SUMMARY:Sterling Vintage Jazz
DESCRIPTION:Pebblestone  is pleased to welcome back Sterling Vintage Jazz. This talented group of musicians includes lead vocalist and percussionist Margaret Reno\, Tim Church on guitar\, Steve Fain on bass and Paul Schmeling on sax. \nThey cover a wide variety of tunes that have withstood the test of time and have brought joy for generations. Their songbook is diverse and includes classic Jazz and swing hits from the 30’s\, 40’s\, and 50’s in a style inspired by the greats such as Anita O’ Day and Peggy Lee\, with just the right amount of 60’s and 70’s soulful R&B. \nVisit Pebblestone for a special musical experience with Sterling Vintage Jazz this Sunday afternoon.
URL:https://pebblestonecellars.biz/event/sterling-vintage-jazz-6/
LOCATION:Pebblestone Tasting Barn\, 1670 Pioneer Road\, Talent\, OR
CATEGORIES:Live Music
ATTACH;FMTTYPE=image/jpeg:https://pebblestonecellars.biz/wp-content/uploads/2023/05/SterlingVintageJazz2023.jpg
END:VEVENT
END:VCALENDAR