BEGIN:VCALENDAR
VERSION:2.0
PRODID:-//Pebblestone Cellars - ECPv6.15.20//NONSGML v1.0//EN
CALSCALE:GREGORIAN
METHOD:PUBLISH
X-WR-CALNAME:Pebblestone Cellars
X-ORIGINAL-URL:https://pebblestonecellars.biz
X-WR-CALDESC:Events for Pebblestone Cellars
REFRESH-INTERVAL;VALUE=DURATION:PT1H
X-Robots-Tag:noindex
X-PUBLISHED-TTL:PT1H
BEGIN:VTIMEZONE
TZID:America/Los_Angeles
BEGIN:DAYLIGHT
TZOFFSETFROM:-0800
TZOFFSETTO:-0700
TZNAME:PDT
DTSTART:20230312T100000
END:DAYLIGHT
BEGIN:STANDARD
TZOFFSETFROM:-0700
TZOFFSETTO:-0800
TZNAME:PST
DTSTART:20231105T090000
END:STANDARD
BEGIN:DAYLIGHT
TZOFFSETFROM:-0800
TZOFFSETTO:-0700
TZNAME:PDT
DTSTART:20240310T100000
END:DAYLIGHT
BEGIN:STANDARD
TZOFFSETFROM:-0700
TZOFFSETTO:-0800
TZNAME:PST
DTSTART:20241103T090000
END:STANDARD
BEGIN:DAYLIGHT
TZOFFSETFROM:-0800
TZOFFSETTO:-0700
TZNAME:PDT
DTSTART:20250309T100000
END:DAYLIGHT
BEGIN:STANDARD
TZOFFSETFROM:-0700
TZOFFSETTO:-0800
TZNAME:PST
DTSTART:20251102T090000
END:STANDARD
END:VTIMEZONE
BEGIN:VEVENT
DTSTART;TZID=America/Los_Angeles:20240519T150000
DTEND;TZID=America/Los_Angeles:20240519T170000
DTSTAMP:20260425T040010
CREATED:20240511T200013Z
LAST-MODIFIED:20240517T170641Z
UID:6557-1716130800-1716138000@pebblestonecellars.biz
SUMMARY:John Ivey
DESCRIPTION:John Ivey\, a multi-talented musician and artist\, who has had a diverse range of life experiences and careers is reutrning to Pebblestone for another electric performance. From being a paraglider pilot and instructor to a cabinet maker\, contractor\, and now a luther\, John has always expressed his creative talents in unique ways. \nMusic has been a constant passion in John’s life\, and he began playing guitar at the age of 10\, learning to write songs at the age of 14. With over 41 years of experience\, John writes and performs most of his own music\, drawing inspiration from his varied life experiences. We can’t wait for you to hear his music and experience the talent and creativity of this remarkable artist from the Pebblestone deck.
URL:https://pebblestonecellars.biz/event/john-ivey-2/
LOCATION:Pebblestone Tasting Barn\, 1670 Pioneer Road\, Talent\, OR
CATEGORIES:Live Music
ATTACH;FMTTYPE=image/jpeg:https://pebblestonecellars.biz/wp-content/uploads/2023/09/JohnIvey.jpg
END:VEVENT
END:VCALENDAR