BEGIN:VCALENDAR
VERSION:2.0
PRODID:-//Pebblestone Cellars - ECPv6.15.20//NONSGML v1.0//EN
CALSCALE:GREGORIAN
METHOD:PUBLISH
X-WR-CALNAME:Pebblestone Cellars
X-ORIGINAL-URL:https://pebblestonecellars.biz
X-WR-CALDESC:Events for Pebblestone Cellars
REFRESH-INTERVAL;VALUE=DURATION:PT1H
X-Robots-Tag:noindex
X-PUBLISHED-TTL:PT1H
BEGIN:VTIMEZONE
TZID:America/Los_Angeles
BEGIN:DAYLIGHT
TZOFFSETFROM:-0800
TZOFFSETTO:-0700
TZNAME:PDT
DTSTART:20230312T100000
END:DAYLIGHT
BEGIN:STANDARD
TZOFFSETFROM:-0700
TZOFFSETTO:-0800
TZNAME:PST
DTSTART:20231105T090000
END:STANDARD
BEGIN:DAYLIGHT
TZOFFSETFROM:-0800
TZOFFSETTO:-0700
TZNAME:PDT
DTSTART:20240310T100000
END:DAYLIGHT
BEGIN:STANDARD
TZOFFSETFROM:-0700
TZOFFSETTO:-0800
TZNAME:PST
DTSTART:20241103T090000
END:STANDARD
BEGIN:DAYLIGHT
TZOFFSETFROM:-0800
TZOFFSETTO:-0700
TZNAME:PDT
DTSTART:20250309T100000
END:DAYLIGHT
BEGIN:STANDARD
TZOFFSETFROM:-0700
TZOFFSETTO:-0800
TZNAME:PST
DTSTART:20251102T090000
END:STANDARD
END:VTIMEZONE
BEGIN:VEVENT
DTSTART;TZID=America/Los_Angeles:20240517T170000
DTEND;TZID=America/Los_Angeles:20240517T190000
DTSTAMP:20260425T035856
CREATED:20240517T230647Z
LAST-MODIFIED:20240517T231539Z
UID:6604-1715965200-1715972400@pebblestonecellars.biz
SUMMARY:Live Music—Last Minute Change for Tonight
DESCRIPTION:Live Music—Last Minute Change \nDue to illness\, JustaDuo had to cancel at the last minute\, however\, we were fortunate to be able to replace them with the talented acoustic guitarist and singer Shybo Torres and Rico Salas on the saxophone. Music will be from 5pm to 7pm. See you there! \nBorn in Puerto Rico\, Shybo Torres moved to New York when he was 8 years old. He started his passionate journey into music when he learned to play drums at age 10 in a little rock band with some friends. He began playing guitar at 13 and the flute at age 16. After moving to South Carolina\, he began to write original songs and performed at coffee houses in the 70’s. Shybo has continued his musical career in the Rogue Valley for many years and has been well known for his baritone voice and broad range of songs.
URL:https://pebblestonecellars.biz/event/live-music-last-minute-change-for-tonight/
LOCATION:Pebblestone Tasting Barn\, 1670 Pioneer Road\, Talent\, OR
CATEGORIES:Live Music
ATTACH;FMTTYPE=image/jpeg:https://pebblestonecellars.biz/wp-content/uploads/2023/11/shyboTorres1223.jpg
END:VEVENT
END:VCALENDAR