BEGIN:VCALENDAR
VERSION:2.0
PRODID:-//Pebblestone Cellars - ECPv6.15.20//NONSGML v1.0//EN
CALSCALE:GREGORIAN
METHOD:PUBLISH
X-WR-CALNAME:Pebblestone Cellars
X-ORIGINAL-URL:https://pebblestonecellars.biz
X-WR-CALDESC:Events for Pebblestone Cellars
REFRESH-INTERVAL;VALUE=DURATION:PT1H
X-Robots-Tag:noindex
X-PUBLISHED-TTL:PT1H
BEGIN:VTIMEZONE
TZID:America/Los_Angeles
BEGIN:DAYLIGHT
TZOFFSETFROM:-0800
TZOFFSETTO:-0700
TZNAME:PDT
DTSTART:20230312T100000
END:DAYLIGHT
BEGIN:STANDARD
TZOFFSETFROM:-0700
TZOFFSETTO:-0800
TZNAME:PST
DTSTART:20231105T090000
END:STANDARD
BEGIN:DAYLIGHT
TZOFFSETFROM:-0800
TZOFFSETTO:-0700
TZNAME:PDT
DTSTART:20240310T100000
END:DAYLIGHT
BEGIN:STANDARD
TZOFFSETFROM:-0700
TZOFFSETTO:-0800
TZNAME:PST
DTSTART:20241103T090000
END:STANDARD
BEGIN:DAYLIGHT
TZOFFSETFROM:-0800
TZOFFSETTO:-0700
TZNAME:PDT
DTSTART:20250309T100000
END:DAYLIGHT
BEGIN:STANDARD
TZOFFSETFROM:-0700
TZOFFSETTO:-0800
TZNAME:PST
DTSTART:20251102T090000
END:STANDARD
END:VTIMEZONE
BEGIN:VEVENT
DTSTART;TZID=America/Los_Angeles:20240512T150000
DTEND;TZID=America/Los_Angeles:20240512T170000
DTSTAMP:20260425T040009
CREATED:20240509T185452Z
LAST-MODIFIED:20240509T185452Z
UID:6537-1715526000-1715533200@pebblestonecellars.biz
SUMMARY:The Stardust Quartet
DESCRIPTION:Get ready for an afternoon of musical magic as Pebblestone hosts The Stardust Trio\, featuring Tim Church on guitar and Jeff Addicot on bass\, join forces with the multilingual songstress Ruth Cohen. \nFrom jazz standards to pop tunes\, and songs from France\, Spain\, and Mexico\, this dynamic group will deliver an eclectic blend of music that is sure to please all musical tastes. So mark your calendars and join us for a night of foot-tapping beats and soulful melodies that will leave you wanting more! \nCome out and this Sunday and enjoy a great performance with some great wine!
URL:https://pebblestonecellars.biz/event/the-stardust-quartet/
LOCATION:Pebblestone Tasting Barn\, 1670 Pioneer Road\, Talent\, OR
CATEGORIES:Live Music
ATTACH;FMTTYPE=image/jpeg:https://pebblestonecellars.biz/wp-content/uploads/2023/03/stardustquartet.jpg
END:VEVENT
END:VCALENDAR