BEGIN:VCALENDAR
VERSION:2.0
PRODID:-//Pebblestone Cellars - ECPv6.15.20//NONSGML v1.0//EN
CALSCALE:GREGORIAN
METHOD:PUBLISH
X-ORIGINAL-URL:https://pebblestonecellars.biz
X-WR-CALDESC:Events for Pebblestone Cellars
REFRESH-INTERVAL;VALUE=DURATION:PT1H
X-Robots-Tag:noindex
X-PUBLISHED-TTL:PT1H
BEGIN:VTIMEZONE
TZID:America/Los_Angeles
BEGIN:DAYLIGHT
TZOFFSETFROM:-0800
TZOFFSETTO:-0700
TZNAME:PDT
DTSTART:20230312T100000
END:DAYLIGHT
BEGIN:STANDARD
TZOFFSETFROM:-0700
TZOFFSETTO:-0800
TZNAME:PST
DTSTART:20231105T090000
END:STANDARD
BEGIN:DAYLIGHT
TZOFFSETFROM:-0800
TZOFFSETTO:-0700
TZNAME:PDT
DTSTART:20240310T100000
END:DAYLIGHT
BEGIN:STANDARD
TZOFFSETFROM:-0700
TZOFFSETTO:-0800
TZNAME:PST
DTSTART:20241103T090000
END:STANDARD
BEGIN:DAYLIGHT
TZOFFSETFROM:-0800
TZOFFSETTO:-0700
TZNAME:PDT
DTSTART:20250309T100000
END:DAYLIGHT
BEGIN:STANDARD
TZOFFSETFROM:-0700
TZOFFSETTO:-0800
TZNAME:PST
DTSTART:20251102T090000
END:STANDARD
END:VTIMEZONE
BEGIN:VEVENT
DTSTART;TZID=America/Los_Angeles:20240510T170000
DTEND;TZID=America/Los_Angeles:20240510T190000
DTSTAMP:20260425T040103
CREATED:20240509T185710Z
LAST-MODIFIED:20240509T185710Z
UID:6539-1715360400-1715367600@pebblestonecellars.biz
SUMMARY:TGIFriday with Jeff Kloetzel
DESCRIPTION:Pebblestone is pleased to welcome back the incredibly talented Jeff Kloetzel! From driving modern tunes to subtle timeless ballads\, Jeff’s diverse catalog of songs will keep you mesmerized throughout his performance. \nHis rhythmic guitar work and soulful vocals are the perfect combination to create a truly unique sound that’s influenced by pop\, rock\, folk\, blues\, and contemporary island music. Whether you’re a fan of any of these genres or not\, Jeff’s set list has something for everyone! Don’t miss this chance to experience the magic of Jeff Kloetzel’s music firsthand!
URL:https://pebblestonecellars.biz/event/tgifriday-with-jeff-kloetzel/
LOCATION:Pebblestone Tasting Barn\, 1670 Pioneer Road\, Talent\, OR
CATEGORIES:Live Music
ATTACH;FMTTYPE=image/jpeg:https://pebblestonecellars.biz/wp-content/uploads/2022/07/Jeff-Kloetzel-2022.jpg
END:VEVENT
END:VCALENDAR