BEGIN:VCALENDAR
VERSION:2.0
PRODID:-//Pebblestone Cellars - ECPv6.15.20//NONSGML v1.0//EN
CALSCALE:GREGORIAN
METHOD:PUBLISH
X-WR-CALNAME:Pebblestone Cellars
X-ORIGINAL-URL:https://pebblestonecellars.biz
X-WR-CALDESC:Events for Pebblestone Cellars
REFRESH-INTERVAL;VALUE=DURATION:PT1H
X-Robots-Tag:noindex
X-PUBLISHED-TTL:PT1H
BEGIN:VTIMEZONE
TZID:America/Los_Angeles
BEGIN:DAYLIGHT
TZOFFSETFROM:-0800
TZOFFSETTO:-0700
TZNAME:PDT
DTSTART:20230312T100000
END:DAYLIGHT
BEGIN:STANDARD
TZOFFSETFROM:-0700
TZOFFSETTO:-0800
TZNAME:PST
DTSTART:20231105T090000
END:STANDARD
BEGIN:DAYLIGHT
TZOFFSETFROM:-0800
TZOFFSETTO:-0700
TZNAME:PDT
DTSTART:20240310T100000
END:DAYLIGHT
BEGIN:STANDARD
TZOFFSETFROM:-0700
TZOFFSETTO:-0800
TZNAME:PST
DTSTART:20241103T090000
END:STANDARD
BEGIN:DAYLIGHT
TZOFFSETFROM:-0800
TZOFFSETTO:-0700
TZNAME:PDT
DTSTART:20250309T100000
END:DAYLIGHT
BEGIN:STANDARD
TZOFFSETFROM:-0700
TZOFFSETTO:-0800
TZNAME:PST
DTSTART:20251102T090000
END:STANDARD
END:VTIMEZONE
BEGIN:VEVENT
DTSTART;TZID=America/Los_Angeles:20240505T150000
DTEND;TZID=America/Los_Angeles:20240505T150000
DTSTAMP:20260425T040011
CREATED:20240503T210503Z
LAST-MODIFIED:20240503T210557Z
UID:6524-1714921200-1714921200@pebblestonecellars.biz
SUMMARY:Carla Bauer ﻿& Friends
DESCRIPTION:Come out to Pebblestone for an of unforgettable music as Carla Bauer and John Galloway take the stage. With their acoustic rock renditions of classic hits from the 60s onwards\, the duo will have you tapping your feet and singing along to your favorite tunes. From country rock to hard rock\, blues and original compositions\, their eclectic repertoire has something for everyone. \nWhether you’re a die-hard fan of the era or just looking for a fun afternoon of wine and music\, don’t miss this chance to relive the golden age of rock music with two of the most talented performers in the business. Make now and experience the magic of live music like never before! \n3pm to 5pm \nSunday\, May 5th
URL:https://pebblestonecellars.biz/event/carla-bauer-friends/
LOCATION:Pebblestone Tasting Barn\, 1670 Pioneer Road\, Talent\, OR
CATEGORIES:Live Music
ATTACH;FMTTYPE=image/jpeg:https://pebblestonecellars.biz/wp-content/uploads/2024/05/CarlaBauer-Friends2024.jpg
END:VEVENT
END:VCALENDAR